{"text_format":"1","workbook":"xlsx","n_sheets":2,"sheets":["MARZO","ABRIL"],"not_rendered":{"charts":0,"images":1,"macros":1,"external_links":0,"defined_names":0,"comments":0,"pivot_tables":0},"unopened":[],"bounds":{"document_bytes":16777216,"sheet_cells":100000,"rows_first":2000,"rows_last":500,"rows_between":2000,"halvings":0,"cell_chars":16384,"cell_head_chars":4096},"cells_cut":0,"cells_raw":0,"read":"whole","date_system":"1900"}

{"sheet":"MARZO","index":0,"n_rows":83,"n_cols":51,"rows_kept":83,"cut":false,"hidden":false,"merged":[[1,3,1,13],[3,7,3,9],[5,7,5,9],[3,10,3,13],[5,10,5,13],[10,7,10,37],[3,1,3,3],[5,1,5,2],[10,1,12,1],[10,2,12,2],[10,3,12,3],[10,4,12,4],[10,5,12,5],[10,6,12,6],[7,1,7,2],[35,1,35,5],[36,2,36,5],[37,2,37,5],[39,2,39,5],[40,2,40,5],[35,7,35,11],[35,12,35,22],[33,20,33,23],[33,24,33,37],[38,2,38,5],[48,1,48,3],[48,7,48,9],[48,10,48,13],[41,2,41,5],[42,2,42,5],[43,2,43,5],[59,8,59,11],[60,8,60,11],[59,14,59,15],[55,6,57,6],[59,16,59,17],[60,14,60,15],[60,16,60,17],[58,22,58,23],[55,13,55,17],[55,19,55,23],[56,19,57,19],[56,20,57,21],[56,22,57,23],[56,14,57,15],[56,16,57,17],[56,13,57,13],[58,14,58,15],[58,16,58,17],[65,8,65,11],[66,8,66,11],[67,8,67,11],[68,8,68,11],[69,8,69,11],[70,8,70,11],[61,8,61,11],[62,8,62,11],[63,8,63,11],[64,8,64,11],[77,25,77,28],[73,14,73,15],[73,16,73,17],[74,14,74,15],[74,16,74,17],[77,14,77,15],[77,16,77,17],[77,8,77,11],[71,8,71,11],[72,8,72,11],[73,8,73,11],[74,8,74,11],[75,8,75,11],[76,8,76,11],[69,14,69,15],[65,14,65,15],[65,16,65,17],[66,14,66,15],[66,16,66,17],[67,14,67,15],[69,16,69,17],[75,25,75,28],[76,25,76,28],[73,22,73,23],[74,22,74,23],[73,20,73,21],[74,20,74,21],[75,20,75,21],[75,14,75,15],[75,16,75,17],[76,14,76,15],[76,16,76,17],[70,14,70,15],[70,16,70,17],[71,14,71,15],[71,16,71,17],[72,14,72,15],[72,16,72,17],[63,14,63,15],[63,16,63,17],[64,14,64,15],[64,16,64,17],[67,16,67,17],[68,14,68,15],[68,16,68,17],[61,14,61,15],[61,16,61,17],[62,14,62,15],[62,16,62,17],[70,20,70,21],[70,22,70,23],[71,20,71,21],[71,22,71,23],[72,20,72,21],[72,22,72,23],[63,20,63,21],[63,22,63,23],[64,20,64,21],[64,22,64,23],[65,20,65,21],[65,22,65,23],[66,22,66,23],[67,22,67,23],[68,22,68,23],[69,30,69,37],[70,30,70,37],[71,30,71,37],[75,30,75,37],[76,30,76,37],[64,25,64,28],[65,25,65,28],[66,25,66,28],[67,25,67,28],[68,25,68,28],[69,25,69,28],[71,25,71,28],[72,25,72,28],[73,25,73,28],[74,25,74,28],[70,25,70,28],[67,30,67,37],[68,30,68,37],[13,52,13,55],[14,52,14,55],[16,52,16,55],[17,52,17,55],[18,52,18,55],[55,30,57,37],[58,30,58,37],[46,1,46,30],[55,8,55,11],[56,8,57,11],[58,8,58,11],[55,25,55,28],[56,25,57,28],[50,1,50,2],[50,7,50,9],[50,10,50,13],[52,1,52,2],[55,1,57,1],[58,25,58,28],[58,20,58,21],[55,2,57,2],[55,3,57,3],[55,4,57,4],[55,5,57,5],[19,52,19,55],[20,52,20,55],[59,20,59,21],[59,22,59,23],[60,20,60,21],[60,22,60,23],[64,30,64,37],[65,30,65,37],[66,30,66,37],[59,25,59,28],[60,25,60,28],[61,25,61,28],[62,25,62,28],[63,25,63,28],[61,22,61,23],[62,20,62,21],[62,22,62,23],[61,20,61,21],[82,13,82,17],[82,18,82,28],[45,0,45,38],[80,26,80,29],[80,30,80,43],[72,30,72,37],[73,30,73,37],[74,30,74,37],[59,30,59,37],[60,30,60,37],[61,30,61,37],[62,30,62,37],[63,30,63,37],[77,30,77,37],[69,22,69,23],[66,20,66,21],[67,20,67,21],[68,20,68,21],[69,20,69,21],[75,22,75,23],[76,20,76,21],[76,22,76,23],[77,20,77,21],[77,22,77,23]]}
[]
[null,null,null,"FORMATO 01: REPORTE DE ASISTENCIA DETALLADO"]
[]
[null,"UGEL SAN IGNACIO",null,null,null,null,null,"PERIODO",null,null,"Marzo"]
[]
[null,"II.EE:",null,16801,null,null,null,"TURNO",null,null,"mañana"]
[]
[null,"NIVEL/MODALIDAD",null,"secundaria"]
[]
[]
[null,"CODIGO MODULAR","DNI","APELLIDOS Y NOMBRES","CARGO","CONDICION","JOR. LAB.","DIAS CALENDARIOS",null,null,null,null,null,null,null,null,null,null,null,null,null,null,null,null,null,null,null,null,null,null,null,null,null,null,null,null,null,null,null,"INICIAL","D","NOMBRADO","A"]
[null,null,null,null,null,null,null,1,2,3,4,5,6,7,8,9,10,11,12,13,14,15,16,17,18,19,20,21,22,23,24,25,26,27,28,29,30,31,null,"PRIMARIA ","L","DESTACADO","I"]
[null,null,null,null,null,null,null,"D","L","M","M","J","V","S","D","L","M","M","J","V","S","D","L","M","M","J","V","S","D","L","M","M","J","V","S","D","L","M",null,"SECUNDARIA","M","ENCARGADO","D"]
[null,222222,37736657,"Flores Tello Segundo Alejandro","docente","NOMBRADO",30,"D","T","A","T",null,null,"D","D",null,null,null,null,null,"D","D",null,null,null,null,null,"D","D",null,null,null,null,null,"D","D",null,null,null,"EBE","M","CONTRATADO","J",{"$f":"COUNTIF(H14:AL14,\"=A\")","v":1},{"$f":"COUNTIF(H14:AL14,\"=I\")","v":0},{"$f":"COUNTIF(H14:AL14,\"=3T\")","v":0},{"$f":"COUNTIF(H14:AL14,\"=J\")","v":0},{"$f":"COUNTIF(H14:AL14,\"=L\")","v":0},{"$f":"COUNTIF(H14:AL14,\"=P\")","v":0},{"$f":"COUNTIF(H14:AL14,\"=T\")","v":2},{"$f":"COUNTIF(H14:AL14,\"=H\")","v":0}]
[null,211212,null,null,null,null,null,"D",null,null,null,null,null,"D","D",null,null,null,null,null,"D","D",null,null,null,null,null,"D","D",null,null,null,null,null,"D","D",null,null,null,"EBA ","J",null,"L",{"$f":"COUNTIF(H15:AL15,\"=A\")","v":0},{"$f":"COUNTIF(H15:AL15,\"=I\")","v":0},{"$f":"COUNTIF(H15:AL15,\"=3T\")","v":0},{"$f":"COUNTIF(H15:AL15,\"=J\")","v":0},{"$f":"COUNTIF(H15:AL15,\"=L\")","v":0},{"$f":"COUNTIF(H15:AL15,\"=P\")","v":0},{"$f":"COUNTIF(H15:AL15,\"=T\")","v":0},{"$f":"COUNTIF(H15:AL15,\"=H\")","v":0}]
[null,null,null,null,null,null,null,"D",null,null,null,null,null,"D","D",null,null,null,null,null,"D","D",null,null,null,null,null,"D","D",null,null,null,null,null,"D","D",null,null,null,null,"V",null,"P",0,0,0,0,0,0,0,0]
[null,null,null,null,null,null,null,"D",null,null,null,null,null,"D","D",null,null,null,null,null,"D","D",null,null,null,null,null,"D","D",null,null,null,null,null,"D","D",null,null,null,null,"S",null,"T",0,0,0,0,0,0,0,0]
[null,null,null,null,null,null,null,"D",null,null,null,null,null,"D","D",null,null,null,null,null,"D","D",null,null,null,null,null,"D","D",null,null,null,null,null,"D","D",null,null,null,null,null,null,"H",0,0,0,0,0,0,0,0]
[null,null,null,null,null,null,null,"D",null,null,null,null,null,"D","D",null,null,null,null,null,"D","D",null,null,null,null,null,"D","D",null,null,null,null,null,"D","D",null,null,null,null,null,null,null,0,0,0,0,0,0,0,0]
[null,null,null,null,null,null,null,"D",null,null,null,null,null,"D","D",null,null,null,null,null,"D","D",null,null,null,null,null,"D","D",null,null,null,null,null,"D","D",null,null,null,null,null,null,null,0,0,0,0,0,0,0,0]
[null,null,null,null,null,null,null,"D",null,null,null,null,null,"D","D",null,null,null,null,null,"D","D",null,null,null,null,null,"D","D",null,null,null,null,null,"D","D",null,null,null,null,null,null,null,0,0,0,0,0,0,0,0]
[null,null,null,null,null,null,null,"D",null,null,null,null,null,"D","D",null,null,null,null,null,"D","D",null,null,null,null,null,"D","D",null,null,null,null,null,"D","D",null,null,null,null,null,null,null,0,0,0,0,0,0,0,0]
[null,null,null,null,null,null,null,"D",null,null,null,null,null,"D","D",null,null,null,null,null,"D","D",null,null,null,null,null,"D","D",null,null,null,null,null,"D","D",null,null,null,null,null,null,null,0,0,0,0,0,0,0,0]
[null,null,null,null,null,null,null,"D",null,null,null,null,null,"D","D",null,null,null,null,null,"D","D",null,null,null,null,null,"D","D",null,null,null,null,null,"D","D",null,null,null,null,null,null,null,0,0,0,0,0,0,0,0]
[null,null,null,null,null,null,null,"D",null,null,null,null,null,"D","D",null,null,null,null,null,"D","D",null,null,null,null,null,"D","D",null,null,null,null,null,"D","D",null,null,null,null,null,null,null,0,0,0,0,0,0,0,0]
[null,null,null,null,null,null,null,"D",null,null,null,null,null,"D","D",null,null,null,null,null,"D","D",null,null,null,null,null,"D","D",null,null,null,null,null,"D","D",null,null,null,null,null,null,null,0,0,0,0,0,0,0,0]
[null,null,null,null,null,null,null,"D",null,null,null,null,null,"D","D",null,null,null,null,null,"D","D",null,null,null,null,null,"D","D",null,null,null,null,null,"D","D",null,null,null,null,null,null,null,0,0,0,0,0,0,0,0]
[null,null,null,null,null,null,null,"D",null,null,null,null,null,"D","D",null,null,null,null,null,"D","D",null,null,null,null,null,"D","D",null,null,null,null,null,"D","D",null,null,null,null,null,null,null,0,0,0,0,0,0,0,0]
[null,null,null,null,null,null,null,"D",null,null,null,null,null,"D","D",null,null,null,null,null,"D","D",null,null,null,null,null,"D","D",null,null,null,null,null,"D","D",null,null,null,null,null,null,null,0,0,0,0,0,0,0,0]
[null,null,null,null,null,null,null,"D",null,null,null,null,null,"D","D",null,null,null,null,null,"D","D",null,null,null,null,null,"D","D",null,null,null,null,null,"D","D",null,null,null,null,null,null,null,0,0,0,0,0,0,0,0]
[null,null,null,null,null,null,null,"D",null,null,null,null,null,"D","D",null,null,null,null,null,"D","D",null,null,null,null,null,"D","D",null,null,null,null,null,"D","D",null,null,null,null,null,null,null,0,0,0,0,0,0,0,0]
[null,null,null,null,null,null,null,"D",null,null,null,null,null,"D","D",null,null,null,null,null,"D","D",null,null,null,null,null,"D","D",null,null,null,null,null,"D","D",null,null,null,null,null,null,null,0,0,0,0,0,0,0,0]
[null,null,null,null,null,null,null,"D",null,null,null,null,null,"D","D",null,null,null,null,null,"D","D",null,null,null,null,null,"D","D",null,null,null,null,null,"D","D",null,null,null,null,null,null,null,0,0,0,0,0,0,0,0]
[null,null,null,null,null,null,null,null,null,null,null,null,null,null,null,null,null,null,null,null,"LUGAR Y FECHA",null,null,null,null,null,null,null,null,null,null,null,null,null,null,null,null,null,null,null,null,null,null,0,0,0,0,0,0,0,0]
[null,null,null,null,null,null,null,null,null,null,null,null,null,null,null,null,null,null,null,null,null,null,null,null,null,null,null,null,null,null,null,null,null,null,null,null,null,null,null,null,null,null,null,0,0,0,0,0,0,0,0]
[null,"LEYENDA",null,null,null,null,null,"DIRECTOR:",null,null,null,null,null,null,null,null,null,null,null,null,null,null,null,null,null,null,null,null,null,null,null,null,null,null,null,null,null,null,null,null,null,null,null,0,0,0,0,0,0,0,0]
[null,"A","DIA LABORADO",null,null,null,null,null,null,null,null,null,null,null,null,null,null,null,null,null,null,null,null,null,null,null,null,null,null,null,null,null,null,null,null,null,null,null,null,null,null,null,null,0,0,0,0,0,0,0,0]
[null,"I","INASISTENCIA INJUSTIFICADA",null,null,null,null,null,null,null,null,null,null,null,null,null,null,null,null,null,null,null,null,null,null,null,null,null,null,null,null,null,null,null,null,null,null,null,null,null,null,null,null,0,0,0,0,0,0,0,0]
[null,"D","SABADO, DOMINGO Y FERIADOS",null,null,null,null,null,null,null,null,null,null,null,null,null,null,null,null,null,null,null,null,null,null,null,null,null,null,null,null,null,null,null,null,null,null,null,null,null,null,null,null,0,0,0,0,0,0,0,0]
[null,"J","INASISTENCIA JUSTIFICADA (LICENCIA CON GOCE DE REMUNARACIONES, PERMISO, VACACIONES)",null,null,null,null,null,null,null,null,null,null,null,null,null,null,null,null,null,null,null,null,null,null,null,null,null,null,null,null,null,null,null,null,null,null,null,null,null,null,null,null,0,0,0,0,0,0,0,0]
[null,"L","LICENCIA SIN GOCE DE REMUNERACIONES",null,null,null,null,null,null,null,null,null,null,null,null,null,null,null,null,null,null,null,null,null,null,null,null,null,null,null,null,null,null,null,null,null,null,null,null,null,null,null,null,0,0,0,0,0,0,0,0]
[null,"P","PERMISO SIN GOCE DE REMUNERACIONES",null,null,null,null,null,null,null,null,null,null,null,null,null,null,null,null,null,null,null,null,null,null,null,null,null,null,null,null,null,null,null,null,null,null,null,null,null,null,null,null,0,0,0,0,0,0,0,0]
[null,"T","TARDANZA",null,null,null,null,null,null,null,null,null,null,null,null,null,null,null,null,null,null,null,null,null,null,null,null,null,null,null,null,null,null,null,null,null,null,null,null,null,null,null,null,0,0,0,0,0,0,0,0]
[null,"H","HUELGA O PARO"]
[]
[]
[null,"FORMATO 02: REPORTE CONSOLIDADO DE INASISTENCIAS, TARDANZAS Y PERMISOS SIN GOCE DE REMUNERACIONES"]
[]
[null,"UGEL SAN IGNACIO",null,null,null,null,null,"PERIODO",null,null,{"$f":"K4","v":"Marzo"}]
[]
[null,"II.EE:",null,{"$f":"D6","v":16801},null,null,null,"TURNO",null,null,{"$f":"K6","v":"mañana"}]
[]
[null,"NIVEL/MODALIDAD",null,{"$f":"D8","v":"secundaria"}]
[]
[]
[null,"CODIGO MODULAR","DNI","APELLIDOS Y NOMBRES","CARGO","CONDICION","JOR. LAB.",null,"INASISTENCIAS",null,null,null,null,"TARDANZAS",null,null,null,null,null,"PERMISOS SG",null,null,null,null,null,"HUELGA/PARO",null,null,null,null,"OBSERVACIONES"]
[null,null,null,null,null,null,null,null,"DÍAS",null,null,null,null,"TOTAL","HORAS",null,"MINUTOS",null,null,"TOTAL","HORAS",null,"MINUTOS",null,null,"DÍAS"]
[]
[null,1,{"$f":"C14","v":37736657},"Flores Tello Segundo Alejandro","docente","NOMBRADO",30,null,{"$f":"AS14","v":0},null,null,null,null,{"$f":"AX14","v":2},null,null,null,null,null,{"$f":"AW14","v":0},null,null,null,null,null,{"$f":"AY14","v":0}]
[null,2,0,0,0,0,0,null,0,null,null,null,null,0,null,null,null,null,null,0,null,null,null,null,null,0]
[null,3,0,0,0,0,0,null,0,null,null,null,null,0,null,null,null,null,null,0,null,null,null,null,null,0]
[null,4,0,0,0,0,0,null,0,null,null,null,null,0,null,null,null,null,null,0,null,null,null,null,null,0]
[null,5,0,0,0,0,0,null,0,null,null,null,null,0,null,null,null,null,null,0,null,null,null,null,null,0]
[null,6,0,0,0,0,0,null,0,null,null,null,null,0,null,null,null,null,null,0,null,null,null,null,null,0]
[null,7,0,0,0,0,0,null,0,null,null,null,null,0,null,null,null,null,null,0,null,null,null,null,null,0]
[null,8,0,0,0,0,0,null,0,null,null,null,null,0,null,null,null,null,null,0,null,null,null,null,null,0]
[null,9,0,0,0,0,0,null,0,null,null,null,null,0,null,null,null,null,null,0,null,null,null,null,null,0]
[null,10,0,0,0,0,0,null,0,null,null,null,null,0,null,null,null,null,null,0,null,null,null,null,null,0]
[null,11,{"$f":"C24","v":0},0,0,0,0,null,0,null,null,null,null,0,null,null,null,null,null,0,null,null,null,null,null,0]
[null,12,0,0,0,0,0,null,0,null,null,null,null,0,null,null,null,null,null,0,null,null,null,null,null,0]
[null,13,0,0,0,0,0,null,0,null,null,null,null,0,null,null,null,null,null,0,null,null,null,null,null,0]
[null,14,0,0,0,0,0,null,0,null,null,null,null,0,null,null,null,null,null,0,null,null,null,null,null,0]
[null,15,0,0,0,0,0,null,0,null,null,null,null,0,null,null,null,null,null,0,null,null,null,null,null,0]
[null,16,0,0,0,0,0,null,0,null,null,null,null,0,null,null,null,null,null,0,null,null,null,null,null,0]
[null,17,0,0,0,0,0,null,0,null,null,null,null,0,null,null,null,null,null,0,null,null,null,null,null,0]
[null,18,0,0,0,0,0,null,0,null,null,null,null,0,null,null,null,null,null,0,null,null,null,null,null,0]
[null,19,0,0,0,0,0,null,0,null,null,null,null,0,null,null,null,null,null,0,null,null,null,null,null,0]
[null,20,0,0,0,0,0,null,0,null,null,null,null,0,null,null,null,null,null,0,null,null,null,null,null,0]
[]
[]
[null,null,null,null,null,null,null,null,null,null,null,null,null,null,null,null,null,null,null,null,null,null,null,null,null,null,"LUGAR Y FECHA",null,null,null,{"$f":"Y34","v":0}]
[]
[null,null,null,null,null,null,null,null,null,null,null,null,null,"DIRECTOR:",null,null,null,null,{"$f":"M36","v":0}]

{"sheet":"ABRIL","index":1,"n_rows":83,"n_cols":51,"rows_kept":83,"cut":false,"hidden":true,"merged":[[80,26,80,29],[80,30,80,43],[82,13,82,17],[82,18,82,28],[76,30,76,37],[77,8,77,11],[77,14,77,15],[77,16,77,17],[77,20,77,21],[77,22,77,23],[77,25,77,28],[77,30,77,37],[76,8,76,11],[76,14,76,15],[76,16,76,17],[76,20,76,21],[76,22,76,23],[76,25,76,28],[74,30,74,37],[75,8,75,11],[75,14,75,15],[75,16,75,17],[75,20,75,21],[75,22,75,23],[75,25,75,28],[75,30,75,37],[74,8,74,11],[74,14,74,15],[74,16,74,17],[74,20,74,21],[74,22,74,23],[74,25,74,28],[72,30,72,37],[73,8,73,11],[73,14,73,15],[73,16,73,17],[73,20,73,21],[73,22,73,23],[73,25,73,28],[73,30,73,37],[72,8,72,11],[72,14,72,15],[72,16,72,17],[72,20,72,21],[72,22,72,23],[72,25,72,28],[70,30,70,37],[71,8,71,11],[71,14,71,15],[71,16,71,17],[71,20,71,21],[71,22,71,23],[71,25,71,28],[71,30,71,37],[70,8,70,11],[70,14,70,15],[70,16,70,17],[70,20,70,21],[70,22,70,23],[70,25,70,28],[68,30,68,37],[69,8,69,11],[69,14,69,15],[69,16,69,17],[69,20,69,21],[69,22,69,23],[69,25,69,28],[69,30,69,37],[68,8,68,11],[68,14,68,15],[68,16,68,17],[68,20,68,21],[68,22,68,23],[68,25,68,28],[66,30,66,37],[67,8,67,11],[67,14,67,15],[67,16,67,17],[67,20,67,21],[67,22,67,23],[67,25,67,28],[67,30,67,37],[66,8,66,11],[66,14,66,15],[66,16,66,17],[66,20,66,21],[66,22,66,23],[66,25,66,28],[64,30,64,37],[65,8,65,11],[65,14,65,15],[65,16,65,17],[65,20,65,21],[65,22,65,23],[65,25,65,28],[65,30,65,37],[64,8,64,11],[64,14,64,15],[64,16,64,17],[64,20,64,21],[64,22,64,23],[64,25,64,28],[62,30,62,37],[63,8,63,11],[63,14,63,15],[63,16,63,17],[63,20,63,21],[63,22,63,23],[63,25,63,28],[63,30,63,37],[62,8,62,11],[62,14,62,15],[62,16,62,17],[62,20,62,21],[62,22,62,23],[62,25,62,28],[60,30,60,37],[61,8,61,11],[61,14,61,15],[61,16,61,17],[61,20,61,21],[61,22,61,23],[61,25,61,28],[61,30,61,37],[60,8,60,11],[60,14,60,15],[60,16,60,17],[60,20,60,21],[60,22,60,23],[60,25,60,28],[59,8,59,11],[59,14,59,15],[59,16,59,17],[59,20,59,21],[59,22,59,23],[59,25,59,28],[59,30,59,37],[56,20,57,21],[56,22,57,23],[56,25,57,28],[58,8,58,11],[58,14,58,15],[58,16,58,17],[58,20,58,21],[58,22,58,23],[58,25,58,28],[55,19,55,23],[55,25,55,28],[55,30,57,37],[56,8,57,11],[56,13,57,13],[56,14,57,15],[56,16,57,17],[56,19,57,19],[58,30,58,37],[50,1,50,2],[50,7,50,9],[50,10,50,13],[52,1,52,2],[55,1,57,1],[55,2,57,2],[55,3,57,3],[55,4,57,4],[55,5,57,5],[55,6,57,6],[55,8,55,11],[55,13,55,17],[43,2,43,5],[45,0,45,38],[46,1,46,30],[48,1,48,3],[48,7,48,9],[48,10,48,13],[36,2,36,5],[37,2,37,5],[39,2,39,5],[40,2,40,5],[41,2,41,5],[42,2,42,5],[38,2,38,5],[18,52,18,55],[19,52,19,55],[20,52,20,55],[33,20,33,23],[33,24,33,37],[35,1,35,5],[35,7,35,11],[35,12,35,22],[10,6,12,6],[10,7,10,37],[13,52,13,55],[14,52,14,55],[16,52,16,55],[17,52,17,55],[7,1,7,2],[10,1,12,1],[10,2,12,2],[10,3,12,3],[10,4,12,4],[10,5,12,5],[1,3,1,13],[3,1,3,3],[3,7,3,9],[3,10,3,13],[5,1,5,2],[5,7,5,9],[5,10,5,13]]}
[]
[null,null,null,"FORMATO 01: REPORTE DE ASISTENCIA DETALLADO"]
[]
[null,"UGEL SAN IGNACIO",null,null,null,null,null,"PERIODO",null,null,"Abril"]
[]
[null,"II.EE:",null,{"$f":"MARZO!D6","v":16801},null,null,null,"TURNO",null,null,{"$f":"MARZO!K6","v":"mañana"}]
[]
[null,"NIVEL/MODALIDAD",null,{"$f":"MARZO!D8","v":"secundaria"}]
[]
[]
[null,{"$f":"MARZO!B11","v":"CODIGO MODULAR"},"DNI","APELLIDOS Y NOMBRES","CARGO","CONDICION","JOR. LAB.","DIAS CALENDARIOS",null,null,null,null,null,null,null,null,null,null,null,null,null,null,null,null,null,null,null,null,null,null,null,null,null,null,null,null,null,null,null,"INICIAL","D","NOMBRADO","A"]
[null,null,null,null,null,null,null,1,2,3,4,5,6,7,8,9,10,11,12,13,14,15,16,17,18,19,20,21,22,23,24,25,26,27,28,29,30,null,null,"PRIMARIA ","L","DESTACADO","I"]
[null,null,null,null,null,null,null,"M","J","V","S","D","L","M","M","J","V","S","D","L","M","M","J","V","S","D","L","M","M","J","V","S","D","L","M","M","J",null,null,"SECUNDARIA","M","ENCARGADO","D"]
[null,{"$f":"MARZO!B14","v":222222},{"$f":"MARZO!C14","v":37736657},{"$f":"MARZO!D14","v":"Flores Tello Segundo Alejandro"},{"$f":"MARZO!E14","v":"docente"},{"$f":"MARZO!F14","v":"NOMBRADO"},{"$f":"MARZO!G14","v":30},null,null,null,"D","D",null,null,null,null,null,"D","D",null,null,null,null,null,"D","D",null,null,null,null,null,"D","D",null,null,null,null,null,null,"EBE","M","CONTRATADO","J",{"$f":"COUNTIF(H14:AL14,\"=A\")","v":0},{"$f":"COUNTIF(H14:AL14,\"=I\")","v":0},{"$f":"COUNTIF(H14:AL14,\"=3T\")","v":0},{"$f":"COUNTIF(H14:AL14,\"=J\")","v":0},{"$f":"COUNTIF(H14:AL14,\"=L\")","v":0},{"$f":"COUNTIF(H14:AL14,\"=P\")","v":0},{"$f":"COUNTIF(H14:AL14,\"=T\")","v":0},{"$f":"COUNTIF(H14:AL14,\"=H\")","v":0}]
[null,{"$f":"MARZO!B15","v":211212},{"$f":"MARZO!C15","v":0},{"$f":"MARZO!D15","v":0},{"$f":"MARZO!E15","v":0},{"$f":"MARZO!F15","v":0},{"$f":"MARZO!G15","v":0},null,null,null,"D","D",null,null,null,null,null,"D","D",null,null,null,null,null,"D","D",null,null,null,null,null,"D","D",null,null,null,null,null,null,"EBA ","J",null,"L",{"$f":"COUNTIF(H15:AL15,\"=A\")","v":0},{"$f":"COUNTIF(H15:AL15,\"=I\")","v":0},{"$f":"COUNTIF(H15:AL15,\"=3T\")","v":0},{"$f":"COUNTIF(H15:AL15,\"=J\")","v":0},{"$f":"COUNTIF(H15:AL15,\"=L\")","v":0},{"$f":"COUNTIF(H15:AL15,\"=P\")","v":0},{"$f":"COUNTIF(H15:AL15,\"=T\")","v":0},{"$f":"COUNTIF(H15:AL15,\"=H\")","v":0}]
[null,{"$f":"MARZO!B16","v":0},{"$f":"MARZO!C16","v":0},{"$f":"MARZO!D16","v":0},{"$f":"MARZO!E16","v":0},{"$f":"MARZO!F16","v":0},{"$f":"MARZO!G16","v":0},null,null,null,"D","D",null,null,null,null,null,"D","D",null,null,null,null,null,"D","D",null,null,null,null,null,"D","D",null,null,null,null,null,null,null,"V",null,"P",0,0,0,0,0,0,0,0]
[null,{"$f":"MARZO!B17","v":0},{"$f":"MARZO!C17","v":0},{"$f":"MARZO!D17","v":0},{"$f":"MARZO!E17","v":0},{"$f":"MARZO!F17","v":0},{"$f":"MARZO!G17","v":0},null,null,null,"D","D",null,null,null,null,null,"D","D",null,null,null,null,null,"D","D",null,null,null,null,null,"D","D",null,null,null,null,null,null,null,"S",null,"T",0,0,0,0,0,0,0,0]
[null,{"$f":"MARZO!B18","v":0},{"$f":"MARZO!C18","v":0},{"$f":"MARZO!D18","v":0},{"$f":"MARZO!E18","v":0},{"$f":"MARZO!F18","v":0},{"$f":"MARZO!G18","v":0},null,null,null,"D","D",null,null,null,null,null,"D","D",null,null,null,null,null,"D","D",null,null,null,null,null,"D","D",null,null,null,null,null,null,null,null,null,"H",0,0,0,0,0,0,0,0]
[null,{"$f":"MARZO!B19","v":0},{"$f":"MARZO!C19","v":0},{"$f":"MARZO!D19","v":0},{"$f":"MARZO!E19","v":0},{"$f":"MARZO!F19","v":0},{"$f":"MARZO!G19","v":0},null,null,null,"D","D",null,null,null,null,null,"D","D",null,null,null,null,null,"D","D",null,null,null,null,null,"D","D",null,null,null,null,null,null,null,null,null,null,0,0,0,0,0,0,0,0]
[null,{"$f":"MARZO!B20","v":0},{"$f":"MARZO!C20","v":0},{"$f":"MARZO!D20","v":0},{"$f":"MARZO!E20","v":0},{"$f":"MARZO!F20","v":0},{"$f":"MARZO!G20","v":0},null,null,null,"D","D",null,null,null,null,null,"D","D",null,null,null,null,null,"D","D",null,null,null,null,null,"D","D",null,null,null,null,null,null,null,null,null,null,0,0,0,0,0,0,0,0]
[null,{"$f":"MARZO!B21","v":0},{"$f":"MARZO!C21","v":0},{"$f":"MARZO!D21","v":0},{"$f":"MARZO!E21","v":0},{"$f":"MARZO!F21","v":0},{"$f":"MARZO!G21","v":0},null,null,null,"D","D",null,null,null,null,null,"D","D",null,null,null,null,null,"D","D",null,null,null,null,null,"D","D",null,null,null,null,null,null,null,null,null,null,0,0,0,0,0,0,0,0]
[null,{"$f":"MARZO!B22","v":0},{"$f":"MARZO!C22","v":0},{"$f":"MARZO!D22","v":0},{"$f":"MARZO!E22","v":0},{"$f":"MARZO!F22","v":0},{"$f":"MARZO!G22","v":0},null,null,null,"D","D",null,null,null,null,null,"D","D",null,null,null,null,null,"D","D",null,null,null,null,null,"D","D",null,null,null,null,null,null,null,null,null,null,0,0,0,0,0,0,0,0]
[null,{"$f":"MARZO!B23","v":0},{"$f":"MARZO!C23","v":0},{"$f":"MARZO!D23","v":0},{"$f":"MARZO!E23","v":0},{"$f":"MARZO!F23","v":0},{"$f":"MARZO!G23","v":0},null,null,null,"D","D",null,null,null,null,null,"D","D",null,null,null,null,null,"D","D",null,null,null,null,null,"D","D",null,null,null,null,null,null,null,null,null,null,0,0,0,0,0,0,0,0]
[null,{"$f":"MARZO!B24","v":0},{"$f":"MARZO!C24","v":0},{"$f":"MARZO!D24","v":0},{"$f":"MARZO!E24","v":0},{"$f":"MARZO!F24","v":0},{"$f":"MARZO!G24","v":0},null,null,null,"D","D",null,null,null,null,null,"D","D",null,null,null,null,null,"D","D",null,null,null,null,null,"D","D",null,null,null,null,null,null,null,null,null,null,0,0,0,0,0,0,0,0]
[null,{"$f":"MARZO!B25","v":0},{"$f":"MARZO!C25","v":0},{"$f":"MARZO!D25","v":0},{"$f":"MARZO!E25","v":0},{"$f":"MARZO!F25","v":0},{"$f":"MARZO!G25","v":0},null,null,null,"D","D",null,null,null,null,null,"D","D",null,null,null,null,null,"D","D",null,null,null,null,null,"D","D",null,null,null,null,null,null,null,null,null,null,0,0,0,0,0,0,0,0]
[null,{"$f":"MARZO!B26","v":0},{"$f":"MARZO!C26","v":0},{"$f":"MARZO!D26","v":0},{"$f":"MARZO!E26","v":0},{"$f":"MARZO!F26","v":0},{"$f":"MARZO!G26","v":0},null,null,null,"D","D",null,null,null,null,null,"D","D",null,null,null,null,null,"D","D",null,null,null,null,null,"D","D",null,null,null,null,null,null,null,null,null,null,0,0,0,0,0,0,0,0]
[null,{"$f":"MARZO!B27","v":0},{"$f":"MARZO!C27","v":0},{"$f":"MARZO!D27","v":0},{"$f":"MARZO!E27","v":0},{"$f":"MARZO!F27","v":0},{"$f":"MARZO!G27","v":0},null,null,null,"D","D",null,null,null,null,null,"D","D",null,null,null,null,null,"D","D",null,null,null,null,null,"D","D",null,null,null,null,null,null,null,null,null,null,0,0,0,0,0,0,0,0]
[null,{"$f":"MARZO!B28","v":0},{"$f":"MARZO!C28","v":0},{"$f":"MARZO!D28","v":0},{"$f":"MARZO!E28","v":0},{"$f":"MARZO!F28","v":0},{"$f":"MARZO!G28","v":0},null,null,null,"D","D",null,null,null,null,null,"D","D",null,null,null,null,null,"D","D",null,null,null,null,null,"D","D",null,null,null,null,null,null,null,null,null,null,0,0,0,0,0,0,0,0]
[null,{"$f":"MARZO!B29","v":0},{"$f":"MARZO!C29","v":0},{"$f":"MARZO!D29","v":0},{"$f":"MARZO!E29","v":0},{"$f":"MARZO!F29","v":0},{"$f":"MARZO!G29","v":0},null,null,null,"D","D",null,null,null,null,null,"D","D",null,null,null,null,null,"D","D",null,null,null,null,null,"D","D",null,null,null,null,null,null,null,null,null,null,0,0,0,0,0,0,0,0]
[null,{"$f":"MARZO!B30","v":0},{"$f":"MARZO!C30","v":0},{"$f":"MARZO!D30","v":0},{"$f":"MARZO!E30","v":0},{"$f":"MARZO!F30","v":0},{"$f":"MARZO!G30","v":0},null,null,null,"D","D",null,null,null,null,null,"D","D",null,null,null,null,null,"D","D",null,null,null,null,null,"D","D",null,null,null,null,null,null,null,null,null,null,0,0,0,0,0,0,0,0]
[null,{"$f":"MARZO!B31","v":0},{"$f":"MARZO!C31","v":0},{"$f":"MARZO!D31","v":0},{"$f":"MARZO!E31","v":0},{"$f":"MARZO!F31","v":0},{"$f":"MARZO!G31","v":0},null,null,null,"D","D",null,null,null,null,null,"D","D",null,null,null,null,null,"D","D",null,null,null,null,null,"D","D",null,null,null,null,null,null,null,null,null,null,0,0,0,0,0,0,0,0]
[null,{"$f":"MARZO!B32","v":0},{"$f":"MARZO!C32","v":0},{"$f":"MARZO!D32","v":0},{"$f":"MARZO!E32","v":0},{"$f":"MARZO!F32","v":0},{"$f":"MARZO!G32","v":0},null,null,null,"D","D",null,null,null,null,null,"D","D",null,null,null,null,null,"D","D",null,null,null,null,null,"D","D",null,null,null,null,null,null,null,null,null,null,0,0,0,0,0,0,0,0]
[null,{"$f":"MARZO!B33","v":0},{"$f":"MARZO!C33","v":0},null,{"$f":"MARZO!E33","v":0},{"$f":"MARZO!F33","v":0},{"$f":"MARZO!G33","v":0},null,null,null,"D","D",null,null,null,null,null,"D","D",null,null,null,null,null,"D","D",null,null,null,null,null,"D","D",null,null,null,null,null,null,null,null,null,null,0,0,0,0,0,0,0,0]
[null,null,null,null,null,null,null,null,null,null,null,null,null,null,null,null,null,null,null,null,"LUGAR Y FECHA",null,null,null,{"$f":"MARZO!Y34","v":0},null,null,null,null,null,null,null,null,null,null,null,null,null,null,null,null,null,null,0,0,0,0,0,0,0,0]
[null,null,null,null,null,null,null,null,null,null,null,null,null,null,null,null,null,null,null,null,null,null,null,null,null,null,null,null,null,null,null,null,null,null,null,null,null,null,null,null,null,null,null,0,0,0,0,0,0,0,0]
[null,"LEYENDA",null,null,null,null,null,"DIRECTOR:",null,null,null,null,{"$f":"MARZO!M36","v":0},null,null,null,null,null,null,null,null,null,null,null,null,null,null,null,null,null,null,null,null,null,null,null,null,null,null,null,null,null,null,0,0,0,0,0,0,0,0]
[null,"A","DIA LABORADO",null,null,null,null,null,null,null,null,null,null,null,null,null,null,null,null,null,null,null,null,null,null,null,null,null,null,null,null,null,null,null,null,null,null,null,null,null,null,null,null,0,0,0,0,0,0,0,0]
[null,"I","INASISTENCIA INJUSTIFICADA",null,null,null,null,null,null,null,null,null,null,null,null,null,null,null,null,null,null,null,null,null,null,null,null,null,null,null,null,null,null,null,null,null,null,null,null,null,null,null,null,0,0,0,0,0,0,0,0]
[null,"D","SABADO, DOMINGO Y FERIADOS",null,null,null,null,null,null,null,null,null,null,null,null,null,null,null,null,null,null,null,null,null,null,null,null,null,null,null,null,null,null,null,null,null,null,null,null,null,null,null,null,0,0,0,0,0,0,0,0]
[null,"J","INASISTENCIA JUSTIFICADA (LICENCIA CON GOCE DE REMUNARACIONES, PERMISO, VACACIONES)",null,null,null,null,null,null,null,null,null,null,null,null,null,null,null,null,null,null,null,null,null,null,null,null,null,null,null,null,null,null,null,null,null,null,null,null,null,null,null,null,0,0,0,0,0,0,0,0]
[null,"L","LICENCIA SIN GOCE DE REMUNERACIONES",null,null,null,null,null,null,null,null,null,null,null,null,null,null,null,null,null,null,null,null,null,null,null,null,null,null,null,null,null,null,null,null,null,null,null,null,null,null,null,null,0,0,0,0,0,0,0,0]
[null,"P","PERMISO SIN GOCE DE REMUNERACIONES",null,null,null,null,null,null,null,null,null,null,null,null,null,null,null,null,null,null,null,null,null,null,null,null,null,null,null,null,null,null,null,null,null,null,null,null,null,null,null,null,0,0,0,0,0,0,0,0]
[null,"T","TARDANZA",null,null,null,null,null,null,null,null,null,null,null,null,null,null,null,null,null,null,null,null,null,null,null,null,null,null,null,null,null,null,null,null,null,null,null,null,null,null,null,null,0,0,0,0,0,0,0,0]
[null,"H","HUELGA O PARO"]
[]
[]
[null,"FORMATO 02: REPORTE CONSOLIDADO DE INASISTENCIAS, TARDANZAS Y PERMISOS SIN GOCE DE REMUNERACIONES"]
[]
[null,"UGEL SAN IGNACIO",null,null,null,null,null,"PERIODO",null,null,{"$f":"K4","v":"Abril"}]
[]
[null,"II.EE:",null,{"$f":"MARZO!D51","v":16801},null,null,null,"TURNO",null,null,{"$f":"K6","v":"mañana"}]
[]
[null,"NIVEL/MODALIDAD",null,{"$f":"MARZO!D53","v":"secundaria"}]
[]
[]
[null,"N°","DNI","APELLIDOS Y NOMBRES","CARGO","CONDICION","JOR. LAB.",null,"INASISTENCIAS",null,null,null,null,"TARDANZAS",null,null,null,null,null,"PERMISOS SG",null,null,null,null,null,"HUELGA/PARO",null,null,null,null,"OBSERVACIONES"]
[null,null,null,null,null,null,null,null,"DÍAS",null,null,null,null,"TOTAL","HORAS",null,"MINUTOS",null,null,"TOTAL","HORAS",null,"MINUTOS",null,null,"DÍAS"]
[]
[null,1,{"$f":"ABRIL!C14","v":37736657},{"$f":"ABRIL!D14","v":"Flores Tello Segundo Alejandro"},{"$f":"ABRIL!E14","v":"docente"},{"$f":"ABRIL!F14","v":"NOMBRADO"},{"$f":"ABRIL!G14","v":30},null,{"$f":"AS14","v":0},null,null,null,null,{"$f":"AX14","v":0},null,null,null,null,null,{"$f":"AW14","v":0},null,null,null,null,null,{"$f":"AY14","v":0}]
[null,2,{"$f":"ABRIL!C15","v":0},{"$f":"ABRIL!D15","v":0},{"$f":"ABRIL!E15","v":0},{"$f":"ABRIL!F15","v":0},{"$f":"ABRIL!G15","v":0},null,0,null,null,null,null,0,null,null,null,null,null,0,null,null,null,null,null,0]
[null,3,{"$f":"ABRIL!C16","v":0},{"$f":"ABRIL!D16","v":0},{"$f":"ABRIL!E16","v":0},{"$f":"ABRIL!F16","v":0},{"$f":"ABRIL!G16","v":0},null,0,null,null,null,null,0,null,null,null,null,null,0,null,null,null,null,null,0]
[null,4,{"$f":"ABRIL!C17","v":0},{"$f":"ABRIL!D17","v":0},{"$f":"ABRIL!E17","v":0},{"$f":"ABRIL!F17","v":0},{"$f":"ABRIL!G17","v":0},null,0,null,null,null,null,0,null,null,null,null,null,0,null,null,null,null,null,0]
[null,5,{"$f":"ABRIL!C18","v":0},{"$f":"ABRIL!D18","v":0},{"$f":"ABRIL!E18","v":0},{"$f":"ABRIL!F18","v":0},{"$f":"ABRIL!G18","v":0},null,0,null,null,null,null,0,null,null,null,null,null,0,null,null,null,null,null,0]
[null,6,{"$f":"ABRIL!C19","v":0},{"$f":"ABRIL!D19","v":0},{"$f":"ABRIL!E19","v":0},{"$f":"ABRIL!F19","v":0},{"$f":"ABRIL!G19","v":0},null,0,null,null,null,null,0,null,null,null,null,null,0,null,null,null,null,null,0]
[null,7,{"$f":"ABRIL!C20","v":0},{"$f":"ABRIL!D20","v":0},{"$f":"ABRIL!E20","v":0},{"$f":"ABRIL!F20","v":0},{"$f":"ABRIL!G20","v":0},null,0,null,null,null,null,0,null,null,null,null,null,0,null,null,null,null,null,0]
[null,8,{"$f":"ABRIL!C21","v":0},{"$f":"ABRIL!D21","v":0},{"$f":"ABRIL!E21","v":0},{"$f":"ABRIL!F21","v":0},{"$f":"ABRIL!G21","v":0},null,0,null,null,null,null,0,null,null,null,null,null,0,null,null,null,null,null,0]
[null,9,{"$f":"ABRIL!C22","v":0},{"$f":"ABRIL!D22","v":0},{"$f":"ABRIL!E22","v":0},{"$f":"ABRIL!F22","v":0},{"$f":"ABRIL!G22","v":0},null,0,null,null,null,null,0,null,null,null,null,null,0,null,null,null,null,null,0]
[null,10,{"$f":"ABRIL!C23","v":0},{"$f":"ABRIL!D23","v":0},{"$f":"ABRIL!E23","v":0},{"$f":"ABRIL!F23","v":0},{"$f":"ABRIL!G23","v":0},null,0,null,null,null,null,0,null,null,null,null,null,0,null,null,null,null,null,0]
[null,11,{"$f":"ABRIL!C24","v":0},{"$f":"ABRIL!D24","v":0},{"$f":"ABRIL!E24","v":0},{"$f":"ABRIL!F24","v":0},{"$f":"ABRIL!G24","v":0},null,0,null,null,null,null,0,null,null,null,null,null,0,null,null,null,null,null,0]
[null,12,{"$f":"ABRIL!C25","v":0},{"$f":"ABRIL!D25","v":0},{"$f":"ABRIL!E25","v":0},{"$f":"ABRIL!F25","v":0},{"$f":"ABRIL!G25","v":0},null,0,null,null,null,null,0,null,null,null,null,null,0,null,null,null,null,null,0]
[null,13,{"$f":"ABRIL!C26","v":0},{"$f":"ABRIL!D26","v":0},{"$f":"ABRIL!E26","v":0},{"$f":"ABRIL!F26","v":0},{"$f":"ABRIL!G26","v":0},null,0,null,null,null,null,0,null,null,null,null,null,0,null,null,null,null,null,0]
[null,14,{"$f":"ABRIL!C27","v":0},{"$f":"ABRIL!D27","v":0},{"$f":"ABRIL!E27","v":0},{"$f":"ABRIL!F27","v":0},{"$f":"ABRIL!G27","v":0},null,0,null,null,null,null,0,null,null,null,null,null,0,null,null,null,null,null,0]
[null,15,{"$f":"ABRIL!C28","v":0},{"$f":"ABRIL!D28","v":0},{"$f":"ABRIL!E28","v":0},{"$f":"ABRIL!F28","v":0},{"$f":"ABRIL!G28","v":0},null,0,null,null,null,null,0,null,null,null,null,null,0,null,null,null,null,null,0]
[null,16,{"$f":"ABRIL!C29","v":0},{"$f":"ABRIL!D29","v":0},{"$f":"ABRIL!E29","v":0},{"$f":"ABRIL!F29","v":0},{"$f":"ABRIL!G29","v":0},null,0,null,null,null,null,0,null,null,null,null,null,0,null,null,null,null,null,0]
[null,17,{"$f":"ABRIL!C30","v":0},{"$f":"ABRIL!D30","v":0},{"$f":"ABRIL!E30","v":0},{"$f":"ABRIL!F30","v":0},{"$f":"ABRIL!G30","v":0},null,0,null,null,null,null,0,null,null,null,null,null,0,null,null,null,null,null,0]
[null,18,{"$f":"ABRIL!C31","v":0},{"$f":"ABRIL!D31","v":0},{"$f":"ABRIL!E31","v":0},{"$f":"ABRIL!F31","v":0},{"$f":"ABRIL!G31","v":0},null,0,null,null,null,null,0,null,null,null,null,null,0,null,null,null,null,null,0]
[null,19,{"$f":"ABRIL!C32","v":0},{"$f":"ABRIL!D32","v":0},{"$f":"ABRIL!E32","v":0},{"$f":"ABRIL!F32","v":0},{"$f":"ABRIL!G32","v":0},null,0,null,null,null,null,0,null,null,null,null,null,0,null,null,null,null,null,0]
[null,20,{"$f":"ABRIL!C33","v":0},{"$f":"ABRIL!D33","v":0},{"$f":"ABRIL!E33","v":0},{"$f":"ABRIL!F33","v":0},{"$f":"ABRIL!G33","v":0},null,0,null,null,null,null,0,null,null,null,null,null,0,null,null,null,null,null,0]
[]
[]
[null,null,null,null,null,null,null,null,null,null,null,null,null,null,null,null,null,null,null,null,null,null,null,null,null,null,"LUGAR Y FECHA"]
[]
[null,null,null,null,null,null,null,null,null,null,null,null,null,"DIRECTOR:"]