{"text_format":"1","workbook":"xlsx","n_sheets":2,"sheets":["MARZO","ABRIL"],"not_rendered":{"charts":0,"images":1,"macros":1,"external_links":0,"defined_names":0,"comments":0,"pivot_tables":0},"unopened":[],"bounds":{"document_bytes":16777216,"sheet_cells":100000,"rows_first":2000,"rows_last":500,"rows_between":2000,"halvings":0,"cell_chars":16384,"cell_head_chars":4096},"cells_cut":0,"cells_raw":0,"read":"whole","date_system":"1900"}

{"sheet":"MARZO","index":0,"n_rows":143,"n_cols":51,"rows_kept":143,"cut":false,"hidden":false,"merged":[[1,3,1,13],[3,7,3,9],[5,7,5,9],[3,10,3,13],[5,10,5,13],[10,7,10,37],[3,1,3,3],[5,1,5,2],[10,1,12,1],[10,2,12,2],[10,3,12,3],[10,4,12,4],[10,5,12,5],[10,6,12,6],[7,1,7,2],[65,1,65,5],[66,2,66,5],[67,2,67,5],[69,2,69,5],[70,2,70,5],[65,7,65,11],[65,12,65,22],[63,20,63,23],[63,24,63,37],[78,1,78,3],[78,7,78,9],[78,10,78,13],[71,2,71,5],[72,2,72,5],[73,2,73,5],[89,8,89,11],[90,8,90,11],[89,14,89,15],[89,16,89,17],[90,14,90,15],[90,16,90,17],[88,22,88,23],[85,13,85,17],[85,19,85,23],[86,19,87,19],[86,20,87,21],[86,22,87,23],[86,14,87,15],[86,16,87,17],[86,13,87,13],[88,14,88,15],[88,16,88,17],[91,8,91,11],[92,8,92,11],[93,8,93,11],[94,8,94,11],[85,2,87,2],[85,3,87,3],[85,4,87,4],[85,5,87,5],[85,6,87,6],[101,8,101,11],[102,8,102,11],[103,8,103,11],[104,8,104,11],[105,8,105,11],[106,8,106,11],[95,8,95,11],[96,8,96,11],[97,8,97,11],[98,8,98,11],[99,8,99,11],[100,8,100,11],[116,8,116,11],[117,8,117,11],[118,8,118,11],[107,8,107,11],[108,8,108,11],[109,8,109,11],[110,8,110,11],[111,8,111,11],[112,8,112,11],[107,14,107,15],[107,16,107,17],[137,8,137,11],[131,8,131,11],[132,8,132,11],[133,8,133,11],[134,8,134,11],[135,8,135,11],[136,8,136,11],[125,8,125,11],[126,8,126,11],[127,8,127,11],[128,8,128,11],[129,8,129,11],[130,8,130,11],[119,8,119,11],[120,8,120,11],[121,8,121,11],[122,8,122,11],[123,8,123,11],[124,8,124,11],[113,8,113,11],[114,8,114,11],[115,8,115,11],[124,14,124,15],[124,16,124,17],[125,14,125,15],[125,16,125,17],[108,14,108,15],[108,16,108,17],[109,14,109,15],[109,16,109,17],[103,14,103,15],[103,16,103,17],[104,14,104,15],[104,16,104,17],[115,14,115,15],[115,16,115,17],[116,14,116,15],[116,16,116,17],[117,14,117,15],[117,16,117,17],[110,14,110,15],[110,16,110,17],[111,14,111,15],[111,16,111,17],[112,14,112,15],[112,16,112,17],[126,22,126,23],[122,25,122,28],[133,20,133,21],[134,20,134,21],[135,20,135,21],[127,20,127,21],[128,20,128,21],[129,20,129,21],[122,20,122,21],[123,20,123,21],[126,20,126,21],[133,22,133,23],[135,22,135,23],[111,25,111,28],[112,25,112,28],[109,22,109,23],[110,22,110,23],[114,22,114,23],[134,22,134,23],[129,25,129,28],[130,25,130,28],[127,22,127,23],[128,22,128,23],[123,25,123,28],[124,25,124,28],[121,22,121,23],[122,22,122,23],[131,25,131,28],[132,25,132,28],[133,25,133,28],[134,25,134,28],[125,25,125,28],[126,25,126,28],[127,25,127,28],[120,25,120,28],[128,25,128,28],[125,22,125,23],[121,25,121,28],[105,25,105,28],[106,25,106,28],[103,22,103,23],[104,22,104,23],[115,20,115,21],[116,20,116,21],[117,20,117,21],[109,20,109,21],[110,20,110,21],[111,20,111,21],[103,20,103,21],[104,20,104,21],[105,20,105,21],[114,20,114,21],[113,25,113,28],[114,25,114,28],[115,25,115,28],[116,25,116,28],[107,25,107,28],[108,25,108,28],[109,25,109,28],[121,20,121,21],[115,22,115,23],[97,16,97,17],[98,14,98,15],[98,16,98,17],[91,14,91,15],[91,16,91,17],[105,14,105,15],[105,16,105,17],[106,14,106,15],[106,16,106,17],[100,14,100,15],[100,16,100,17],[101,14,101,15],[101,16,101,17],[102,14,102,15],[102,16,102,17],[92,14,92,15],[92,16,92,17],[99,14,99,15],[95,14,95,15],[95,16,95,17],[96,14,96,15],[96,16,96,17],[97,14,97,15],[99,16,99,17],[136,14,136,15],[136,16,136,17],[137,14,137,15],[137,16,137,17],[135,14,135,15],[135,16,135,17],[131,14,131,15],[131,16,131,17],[132,14,132,15],[132,16,132,17],[126,14,126,15],[126,16,126,17],[127,14,127,15],[127,16,127,17],[121,14,121,15],[121,16,121,17],[122,14,122,15],[122,16,122,17],[88,20,88,21],[91,20,91,21],[113,14,113,15],[113,16,113,17],[114,14,114,15],[114,16,114,17],[118,14,118,15],[118,16,118,17],[119,14,119,15],[119,16,119,17],[120,14,120,15],[120,16,120,17],[93,14,93,15],[93,16,93,17],[94,14,94,15],[94,16,94,17],[91,22,91,23],[92,20,92,21],[92,22,92,23],[133,14,133,15],[133,16,133,17],[134,14,134,15],[134,16,134,17],[128,14,128,15],[128,16,128,17],[129,14,129,15],[129,16,129,17],[130,14,130,15],[130,16,130,17],[123,14,123,15],[123,16,123,17],[100,20,100,21],[100,22,100,23],[101,20,101,21],[101,22,101,23],[102,20,102,21],[102,22,102,23],[93,20,93,21],[93,22,93,23],[94,20,94,21],[137,25,137,28],[94,25,94,28],[95,25,95,28],[96,25,96,28],[97,25,97,28],[98,25,98,28],[99,25,99,28],[88,25,88,28],[89,25,89,28],[90,25,90,28],[91,25,91,28],[92,25,92,28],[93,25,93,28],[110,25,110,28],[101,25,101,28],[102,25,102,28],[103,25,103,28],[104,25,104,28],[100,25,100,28],[135,25,135,28],[136,25,136,28],[117,25,117,28],[118,25,118,28],[119,25,119,28],[94,30,94,37],[95,30,95,37],[96,30,96,37],[97,30,97,37],[132,30,132,37],[133,30,133,37],[122,30,122,37],[123,30,123,37],[124,30,124,37],[125,30,125,37],[120,30,120,37],[121,30,121,37],[110,30,110,37],[111,30,111,37],[112,30,112,37],[113,30,113,37],[108,30,108,37],[109,30,109,37],[98,30,98,37],[99,30,99,37],[100,30,100,37],[101,30,101,37],[105,30,105,37],[106,30,106,37],[19,52,19,55],[20,52,20,55],[89,20,89,21],[89,22,89,23],[90,20,90,21],[90,22,90,23],[13,52,13,55],[14,52,14,55],[16,52,16,55],[17,52,17,55],[18,52,18,55],[85,30,87,37],[88,30,88,37],[76,1,76,30],[85,8,85,11],[86,8,87,11],[88,8,88,11],[85,25,85,28],[86,25,87,28],[80,1,80,2],[80,7,80,9],[80,10,80,13],[82,1,82,2],[85,1,87,1],[94,22,94,23],[95,20,95,21],[95,22,95,23],[96,22,96,23],[97,22,97,23],[98,22,98,23],[119,20,119,21],[119,22,119,23],[120,20,120,21],[120,22,120,23],[113,20,113,21],[113,22,113,23],[116,22,116,23],[99,22,99,23],[96,20,96,21],[97,20,97,21],[98,20,98,21],[99,20,99,21],[111,22,111,23],[112,20,112,21],[112,22,112,23],[105,22,105,23],[106,20,106,21],[106,22,106,23],[107,20,107,21],[107,22,107,23],[108,20,108,21],[108,22,108,23],[136,20,136,21],[136,22,136,23],[137,20,137,21],[137,22,137,23],[89,30,89,37],[90,30,90,37],[91,30,91,37],[92,30,92,37],[93,30,93,37],[129,22,129,23],[130,20,130,21],[130,22,130,23],[131,20,131,21],[131,22,131,23],[132,20,132,21],[132,22,132,23],[123,22,123,23],[124,20,124,21],[124,22,124,23],[125,20,125,21],[117,22,117,23],[118,20,118,21],[118,22,118,23],[107,30,107,37],[142,13,142,17],[142,18,142,28],[75,0,75,38],[134,30,134,37],[135,30,135,37],[136,30,136,37],[137,30,137,37],[140,26,140,29],[140,30,140,43],[126,30,126,37],[127,30,127,37],[128,30,128,37],[129,30,129,37],[130,30,130,37],[131,30,131,37],[114,30,114,37],[115,30,115,37],[116,30,116,37],[117,30,117,37],[118,30,118,37],[119,30,119,37],[102,30,102,37],[103,30,103,37],[104,30,104,37]]}
[]
[null,null,null,"FORMATO 01: REPORTE DE ASISTENCIA DETALLADO"]
[]
[null,"UGEL SAN IGNACIO",null,null,null,null,null,"PERIODO",null,null,"Marzo"]
[]
[null,"II.EE:",null,16801,null,null,null,"TURNO",null,null,"mañana"]
[]
[null,"NIVEL/MODALIDAD",null,"secundaria"]
[]
[]
[null,"N°","DNI","APELLIDOS Y NOMBRES","CARGO","CONDICION","JOR. LAB.","DIAS CALENDARIOS",null,null,null,null,null,null,null,null,null,null,null,null,null,null,null,null,null,null,null,null,null,null,null,null,null,null,null,null,null,null,null,"INICIAL","D","NOMBRADO","A"]
[null,null,null,null,null,null,null,1,2,3,4,5,6,7,8,9,10,11,12,13,14,15,16,17,18,19,20,21,22,23,24,25,26,27,28,29,30,31,null,"PRIMARIA ","L","DESTACADO","I"]
[null,null,null,null,null,null,null,"D","L","M","M","J","V","S","D","L","M","M","J","V","S","D","L","M","M","J","V","S","D","L","M","M","J","V","S","D","L","M",null,"SECUNDARIA","M","ENCARGADO","D"]
[null,1,37736657,"Flores Tello Segundo Alejandro","docente","NOMBRADO",30,"D",null,null,null,null,null,"D","D",null,null,null,null,null,"D","D",null,null,null,null,null,"D","D",null,null,null,null,null,"D","D",null,null,null,"EBE","M","CONTRATADO","J",{"$f":"COUNTIF(H14:AL14,\"=A\")","v":0},{"$f":"COUNTIF(H14:AL14,\"=I\")","v":0},{"$f":"COUNTIF(H14:AL14,\"=3T\")","v":0},{"$f":"COUNTIF(H14:AL14,\"=J\")","v":0},{"$f":"COUNTIF(H14:AL14,\"=L\")","v":0},{"$f":"COUNTIF(H14:AL14,\"=P\")","v":0},{"$f":"COUNTIF(H14:AL14,\"=T\")","v":0},{"$f":"COUNTIF(H14:AL14,\"=H\")","v":0}]
[null,2,null,null,null,null,null,"D",null,null,null,null,null,"D","D",null,null,null,null,null,"D","D",null,null,null,null,null,"D","D",null,null,null,null,null,"D","D",null,null,null,"EBA ","J",null,"L",{"$f":"COUNTIF(H15:AL15,\"=A\")","v":0},{"$f":"COUNTIF(H15:AL15,\"=I\")","v":0},{"$f":"COUNTIF(H15:AL15,\"=3T\")","v":0},{"$f":"COUNTIF(H15:AL15,\"=J\")","v":0},{"$f":"COUNTIF(H15:AL15,\"=L\")","v":0},{"$f":"COUNTIF(H15:AL15,\"=P\")","v":0},{"$f":"COUNTIF(H15:AL15,\"=T\")","v":0},{"$f":"COUNTIF(H15:AL15,\"=H\")","v":0}]
[null,3,null,null,null,null,null,"D",null,null,null,null,null,"D","D",null,null,null,null,null,"D","D",null,null,null,null,null,"D","D",null,null,null,null,null,"D","D",null,null,null,null,"V",null,"P",0,0,0,0,0,0,0,0]
[null,4,null,null,null,null,null,"D",null,null,null,null,null,"D","D",null,null,null,null,null,"D","D",null,null,null,null,null,"D","D",null,null,null,null,null,"D","D",null,null,null,null,"S",null,"T",0,0,0,0,0,0,0,0]
[null,5,null,null,null,null,null,"D",null,null,null,null,null,"D","D",null,null,null,null,null,"D","D",null,null,null,null,null,"D","D",null,null,null,null,null,"D","D",null,null,null,null,null,null,"H",0,0,0,0,0,0,0,0]
[null,6,null,null,null,null,null,"D",null,null,null,null,null,"D","D",null,null,null,null,null,"D","D",null,null,null,null,null,"D","D",null,null,null,null,null,"D","D",null,null,null,null,null,null,null,0,0,0,0,0,0,0,0]
[null,7,null,null,null,null,null,"D",null,null,null,null,null,"D","D",null,null,null,null,null,"D","D",null,null,null,null,null,"D","D",null,null,null,null,null,"D","D",null,null,null,null,null,null,null,0,0,0,0,0,0,0,0]
[null,8,null,null,null,null,null,"D",null,null,null,null,null,"D","D",null,null,null,null,null,"D","D",null,null,null,null,null,"D","D",null,null,null,null,null,"D","D",null,null,null,null,null,null,null,0,0,0,0,0,0,0,0]
[null,9,null,null,null,null,null,"D",null,null,null,null,null,"D","D",null,null,null,null,null,"D","D",null,null,null,null,null,"D","D",null,null,null,null,null,"D","D",null,null,null,null,null,null,null,0,0,0,0,0,0,0,0]
[null,10,null,null,null,null,null,"D",null,null,null,null,null,"D","D",null,null,null,null,null,"D","D",null,null,null,null,null,"D","D",null,null,null,null,null,"D","D",null,null,null,null,null,null,null,0,0,0,0,0,0,0,0]
[null,11,null,null,null,null,null,"D",null,null,null,null,null,"D","D",null,null,null,null,null,"D","D",null,null,null,null,null,"D","D",null,null,null,null,null,"D","D",null,null,null,null,null,null,null,0,0,0,0,0,0,0,0]
[null,12,null,null,null,null,null,"D",null,null,null,null,null,"D","D",null,null,null,null,null,"D","D",null,null,null,null,null,"D","D",null,null,null,null,null,"D","D",null,null,null,null,null,null,null,0,0,0,0,0,0,0,0]
[null,13,null,null,null,null,null,"D",null,null,null,null,null,"D","D",null,null,null,null,null,"D","D",null,null,null,null,null,"D","D",null,null,null,null,null,"D","D",null,null,null,null,null,null,null,0,0,0,0,0,0,0,0]
[null,14,null,null,null,null,null,"D",null,null,null,null,null,"D","D",null,null,null,null,null,"D","D",null,null,null,null,null,"D","D",null,null,null,null,null,"D","D",null,null,null,null,null,null,null,0,0,0,0,0,0,0,0]
[null,15,null,null,null,null,null,"D",null,null,null,null,null,"D","D",null,null,null,null,null,"D","D",null,null,null,null,null,"D","D",null,null,null,null,null,"D","D",null,null,null,null,null,null,null,0,0,0,0,0,0,0,0]
[null,16,null,null,null,null,null,"D",null,null,null,null,null,"D","D",null,null,null,null,null,"D","D",null,null,null,null,null,"D","D",null,null,null,null,null,"D","D",null,null,null,null,null,null,null,0,0,0,0,0,0,0,0]
[null,17,null,null,null,null,null,"D",null,null,null,null,null,"D","D",null,null,null,null,null,"D","D",null,null,null,null,null,"D","D",null,null,null,null,null,"D","D",null,null,null,null,null,null,null,0,0,0,0,0,0,0,0]
[null,18,null,null,null,null,null,"D",null,null,null,null,null,"D","D",null,null,null,null,null,"D","D",null,null,null,null,null,"D","D",null,null,null,null,null,"D","D",null,null,null,null,null,null,null,0,0,0,0,0,0,0,0]
[null,19,null,null,null,null,null,"D",null,null,null,null,null,"D","D",null,null,null,null,null,"D","D",null,null,null,null,null,"D","D",null,null,null,null,null,"D","D",null,null,null,null,null,null,null,0,0,0,0,0,0,0,0]
[null,20,null,null,null,null,null,"D",null,null,null,null,null,"D","D",null,null,null,null,null,"D","D",null,null,null,null,null,"D","D",null,null,null,null,null,"D","D",null,null,null,null,null,null,null,0,0,0,0,0,0,0,0]
[null,21,null,null,null,null,null,"D",null,null,null,null,null,"D","D",null,null,null,null,null,"D","D",null,null,null,null,null,"D","D",null,null,null,null,null,"D","D",null,null,null,null,null,null,null,0,0,0,0,0,0,0,0]
[null,22,null,null,null,null,null,"D",null,null,null,null,null,"D","D",null,null,null,null,null,"D","D",null,null,null,null,null,"D","D",null,null,null,null,null,"D","D",null,null,null,null,null,null,null,0,0,0,0,0,0,0,0]
[null,23,null,null,null,null,null,"D",null,null,null,null,null,"D","D",null,null,null,null,null,"D","D",null,null,null,null,null,"D","D",null,null,null,null,null,"D","D",null,null,null,null,null,null,null,0,0,0,0,0,0,0,0]
[null,24,null,null,null,null,null,"D",null,null,null,null,null,"D","D",null,null,null,null,null,"D","D",null,null,null,null,null,"D","D",null,null,null,null,null,"D","D",null,null,null,null,null,null,null,0,0,0,0,0,0,0,0]
[null,25,null,null,null,null,null,"D",null,null,null,null,null,"D","D",null,null,null,null,null,"D","D",null,null,null,null,null,"D","D",null,null,null,null,null,"D","D",null,null,null,null,null,null,null,0,0,0,0,0,0,0,0]
[null,26,null,null,null,null,null,"D",null,null,null,null,null,"D","D",null,null,null,null,null,"D","D",null,null,null,null,null,"D","D",null,null,null,null,null,"D","D",null,null,null,null,null,null,null,0,0,0,0,0,0,0,0]
[null,27,null,null,null,null,null,"D",null,null,null,null,null,"D","D",null,null,null,null,null,"D","D",null,null,null,null,null,"D","D",null,null,null,null,null,"D","D",null,null,null,null,null,null,null,0,0,0,0,0,0,0,0]
[null,28,null,null,null,null,null,"D",null,null,null,null,null,"D","D",null,null,null,null,null,"D","D",null,null,null,null,null,"D","D",null,null,null,null,null,"D","D",null,null,null,null,null,null,null,0,0,0,0,0,0,0,0]
[null,29,null,null,null,null,null,"D",null,null,null,null,null,"D","D",null,null,null,null,null,"D","D",null,null,null,null,null,"D","D",null,null,null,null,null,"D","D",null,null,null,null,null,null,null,0,0,0,0,0,0,0,0]
[null,30,null,null,null,null,null,"D",null,null,null,null,null,"D","D",null,null,null,null,null,"D","D",null,null,null,null,null,"D","D",null,null,null,null,null,"D","D",null,null,null,null,null,null,null,0,0,0,0,0,0,0,0]
[null,31,null,null,null,null,null,"D",null,null,null,null,null,"D","D",null,null,null,null,null,"D","D",null,null,null,null,null,"D","D",null,null,null,null,null,"D","D",null,null,null,null,null,null,null,0,0,0,0,0,0,0,0]
[null,32,null,null,null,null,null,"D",null,null,null,null,null,"D","D",null,null,null,null,null,"D","D",null,null,null,null,null,"D","D",null,null,null,null,null,"D","D",null,null,null,null,null,null,null,0,0,0,0,0,0,0,0]
[null,33,null,null,null,null,null,"D",null,null,null,null,null,"D","D",null,null,null,null,null,"D","D",null,null,null,null,null,"D","D",null,null,null,null,null,"D","D",null,null,null,null,null,null,null,0,0,0,0,0,0,0,0]
[null,34,null,null,null,null,null,"D",null,null,null,null,null,"D","D",null,null,null,null,null,"D","D",null,null,null,null,null,"D","D",null,null,null,null,null,"D","D",null,null,null,null,null,null,null,0,0,0,0,0,0,0,0]
[null,35,null,null,null,null,null,"D",null,null,null,null,null,"D","D",null,null,null,null,null,"D","D",null,null,null,null,null,"D","D",null,null,null,null,null,"D","D",null,null,null,null,null,null,null,0,0,0,0,0,0,0,0]
[null,36,null,null,null,null,null,"D",null,null,null,null,null,"D","D",null,null,null,null,null,"D","D",null,null,null,null,null,"D","D",null,null,null,null,null,"D","D",null,null,null,null,null,null,null,0,0,0,0,0,0,0,0]
[null,37,null,null,null,null,null,"D",null,null,null,null,null,"D","D",null,null,null,null,null,"D","D",null,null,null,null,null,"D","D",null,null,null,null,null,"D","D",null,null,null,null,null,null,null,0,0,0,0,0,0,0,0]
[null,38,null,null,null,null,null,"D",null,null,null,null,null,"D","D",null,null,null,null,null,"D","D",null,null,null,null,null,"D","D",null,null,null,null,null,"D","D",null,null,null,null,null,null,null,0,0,0,0,0,0,0,0]
[null,39,null,null,null,null,null,"D",null,null,null,null,null,"D","D",null,null,null,null,null,"D","D",null,null,null,null,null,"D","D",null,null,null,null,null,"D","D",null,null,null,null,null,null,null,0,0,0,0,0,0,0,0]
[null,40,null,null,null,null,null,"D",null,null,null,null,null,"D","D",null,null,null,null,null,"D","D",null,null,null,null,null,"D","D",null,null,null,null,null,"D","D",null,null,null,null,null,null,null,0,0,0,0,0,0,0,0]
[null,41,null,null,null,null,null,"D",null,null,null,null,null,"D","D",null,null,null,null,null,"D","D",null,null,null,null,null,"D","D",null,null,null,null,null,"D","D",null,null,null,null,null,null,null,0,0,0,0,0,0,0,0]
[null,42,null,null,null,null,null,"D",null,null,null,null,null,"D","D",null,null,null,null,null,"D","D",null,null,null,null,null,"D","D",null,null,null,null,null,"D","D",null,null,null,null,null,null,null,0,0,0,0,0,0,0,0]
[null,43,null,null,null,null,null,"D",null,null,null,null,null,"D","D",null,null,null,null,null,"D","D",null,null,null,null,null,"D","D",null,null,null,null,null,"D","D",null,null,null,null,null,null,null,0,0,0,0,0,0,0,0]
[null,44,null,null,null,null,null,"D",null,null,null,null,null,"D","D",null,null,null,null,null,"D","D",null,null,null,null,null,"D","D",null,null,null,null,null,"D","D",null,null,null,null,null,null,null,0,0,0,0,0,0,0,0]
[null,45,null,null,null,null,null,"D",null,null,null,null,null,"D","D",null,null,null,null,null,"D","D",null,null,null,null,null,"D","D",null,null,null,null,null,"D","D",null,null,null,null,null,null,null,0,0,0,0,0,0,0,0]
[null,46,null,null,null,null,null,"D",null,null,null,null,null,"D","D",null,null,null,null,null,"D","D",null,null,null,null,null,"D","D",null,null,null,null,null,"D","D",null,null,null,null,null,null,null,0,0,0,0,0,0,0,0]
[null,47,null,null,null,null,null,"D",null,null,null,null,null,"D","D",null,null,null,null,null,"D","D",null,null,null,null,null,"D","D",null,null,null,null,null,"D","D",null,null,null,null,null,null,null,0,0,0,0,0,0,0,0]
[null,48,null,null,null,null,null,"D",null,null,null,null,null,"D","D",null,null,null,null,null,"D","D",null,null,null,null,null,"D","D",null,null,null,null,null,"D","D",null,null,null,null,null,null,null,0,0,0,0,0,0,0,0]
[null,49,null,null,null,null,null,"D",null,null,null,null,null,"D","D",null,null,null,null,null,"D","D",null,null,null,null,null,"D","D",null,null,null,null,null,"D","D",null,null,null,null,null,null,null,0,0,0,0,0,0,0,0]
[null,50,null,null,null,null,null,"D",null,null,null,null,null,"D","D",null,null,null,null,null,"D","D",null,null,null,null,null,"D","D",null,null,null,null,null,"D","D",null,null,null,null,null,null,null,0,0,0,0,0,0,0,0]
[null,null,null,null,null,null,null,null,null,null,null,null,null,null,null,null,null,null,null,null,"LUGAR Y FECHA",null,null,null,null,null,null,null,null,null,null,null,null,null,null,null,null,null,null,null,null,null,null,0,0,0,0,0,0,0,0]
[null,null,null,null,null,null,null,null,null,null,null,null,null,null,null,null,null,null,null,null,null,null,null,null,null,null,null,null,null,null,null,null,null,null,null,null,null,null,null,null,null,null,null,0,0,0,0,0,0,0,0]
[null,"LEYENDA",null,null,null,null,null,"DIRECTOR:",null,null,null,null,null,null,null,null,null,null,null,null,null,null,null,null,null,null,null,null,null,null,null,null,null,null,null,null,null,null,null,null,null,null,null,0,0,0,0,0,0,0,0]
[null,"A","DIA LABORADO",null,null,null,null,null,null,null,null,null,null,null,null,null,null,null,null,null,null,null,null,null,null,null,null,null,null,null,null,null,null,null,null,null,null,null,null,null,null,null,null,0,0,0,0,0,0,0,0]
[null,"I","INASISTENCIA INJUSTIFICADA",null,null,null,null,null,null,null,null,null,null,null,null,null,null,null,null,null,null,null,null,null,null,null,null,null,null,null,null,null,null,null,null,null,null,null,null,null,null,null,null,0,0,0,0,0,0,0,0]
[null,"D","SABADO, DOMINGO Y FERIADOS",null,null,null,null,null,null,null,null,null,null,null,null,null,null,null,null,null,null,null,null,null,null,null,null,null,null,null,null,null,null,null,null,null,null,null,null,null,null,null,null,0,0,0,0,0,0,0,0]
[null,"J","INASISTENCIA JUSTIFICADA (LICENCIA CON GOCE DE REMUNARACIONES, PERMISO, VACACIONES)",null,null,null,null,null,null,null,null,null,null,null,null,null,null,null,null,null,null,null,null,null,null,null,null,null,null,null,null,null,null,null,null,null,null,null,null,null,null,null,null,0,0,0,0,0,0,0,0]
[null,"L","LICENCIA SIN GOCE DE REMUNERACIONES",null,null,null,null,null,null,null,null,null,null,null,null,null,null,null,null,null,null,null,null,null,null,null,null,null,null,null,null,null,null,null,null,null,null,null,null,null,null,null,null,0,0,0,0,0,0,0,0]
[null,"P","PERMISO SIN GOCE DE REMUNERACIONES",null,null,null,null,null,null,null,null,null,null,null,null,null,null,null,null,null,null,null,null,null,null,null,null,null,null,null,null,null,null,null,null,null,null,null,null,null,null,null,null,0,0,0,0,0,0,0,0]
[null,"T","TARDANZA",null,null,null,null,null,null,null,null,null,null,null,null,null,null,null,null,null,null,null,null,null,null,null,null,null,null,null,null,null,null,null,null,null,null,null,null,null,null,null,null,0,0,0,0,0,0,0,0]
[null,"H","HUELGA O PARO"]
[]
[]
[null,"FORMATO 02: REPORTE CONSOLIDADO DE INASISTENCIAS, TARDANZAS Y PERMISOS SIN GOCE DE REMUNERACIONES"]
[]
[null,"UGEL SAN IGNACIO",null,null,null,null,null,"PERIODO",null,null,{"$f":"K4","v":"Marzo"}]
[]
[null,"II.EE:",null,{"$f":"D6","v":16801},null,null,null,"TURNO",null,null,{"$f":"K6","v":"mañana"}]
[]
[null,"NIVEL/MODALIDAD",null,{"$f":"D8","v":"secundaria"}]
[]
[]
[null,"N°","DNI","APELLIDOS Y NOMBRES","CARGO","CONDICION","JOR. LAB.",null,"INASISTENCIAS",null,null,null,null,"TARDANZAS",null,null,null,null,null,"PERMISOS SG",null,null,null,null,null,"HUELGA/PARO",null,null,null,null,"OBSERVACIONES"]
[null,null,null,null,null,null,null,null,"DÍAS",null,null,null,null,"TOTAL","HORAS",null,"MINUTOS",null,null,"TOTAL","HORAS",null,"MINUTOS",null,null,"DÍAS"]
[]
[null,1,{"$f":"C14","v":37736657},{"$f":"D14","v":"Flores Tello Segundo Alejandro"},{"$f":"E14","v":"docente"},{"$f":"F14","v":"NOMBRADO"},{"$f":"G14","v":30},null,{"$f":"AS14","v":0},null,null,null,null,{"$f":"AX14","v":0},null,null,null,null,null,{"$f":"AW14","v":0},null,null,null,null,null,{"$f":"AY14","v":0}]
[null,2,{"$f":"C15","v":0},{"$f":"D15","v":0},0,0,0,null,{"$f":"AS15","v":0},null,null,null,null,{"$f":"AX15","v":0},null,null,null,null,null,{"$f":"AW15","v":0},null,null,null,null,null,{"$f":"AY15","v":0}]
[null,3,0,{"$f":"D16","v":0},0,0,0,null,0,null,null,null,null,0,null,null,null,null,null,0,null,null,null,null,null,0]
[null,4,0,{"$f":"D17","v":0},0,0,0,null,0,null,null,null,null,0,null,null,null,null,null,0,null,null,null,null,null,0]
[null,5,0,{"$f":"D18","v":0},0,0,0,null,0,null,null,null,null,0,null,null,null,null,null,0,null,null,null,null,null,0]
[null,6,0,{"$f":"D19","v":0},0,0,0,null,0,null,null,null,null,0,null,null,null,null,null,0,null,null,null,null,null,0]
[null,7,0,{"$f":"D20","v":0},0,0,0,null,0,null,null,null,null,{"$f":"AX20","v":0},null,null,null,null,null,0,null,null,null,null,null,0]
[null,8,0,{"$f":"D21","v":0},0,0,0,null,0,null,null,null,null,{"$f":"AX21","v":0},null,null,null,null,null,0,null,null,null,null,null,0]
[null,9,0,{"$f":"D22","v":0},0,0,0,null,0,null,null,null,null,0,null,null,null,null,null,0,null,null,null,null,null,0]
[null,10,0,{"$f":"D23","v":0},0,0,0,null,0,null,null,null,null,0,null,null,null,null,null,0,null,null,null,null,null,0]
[null,11,0,{"$f":"D24","v":0},0,0,0,null,0,null,null,null,null,0,null,null,null,null,null,0,null,null,null,null,null,0]
[null,12,0,{"$f":"D25","v":0},0,0,0,null,0,null,null,null,null,0,null,null,null,null,null,0,null,null,null,null,null,0]
[null,13,0,{"$f":"D26","v":0},0,0,0,null,0,null,null,null,null,0,null,null,null,null,null,0,null,null,null,null,null,0]
[null,14,0,{"$f":"D27","v":0},0,0,0,null,0,null,null,null,null,0,null,null,null,null,null,0,null,null,null,null,null,0]
[null,15,0,{"$f":"D28","v":0},0,0,0,null,0,null,null,null,null,0,null,null,null,null,null,0,null,null,null,null,null,0]
[null,16,0,{"$f":"D29","v":0},0,0,0,null,0,null,null,null,null,0,null,null,null,null,null,0,null,null,null,null,null,0]
[null,17,0,{"$f":"D30","v":0},0,0,0,null,0,null,null,null,null,0,null,null,null,null,null,0,null,null,null,null,null,0]
[null,18,0,{"$f":"D31","v":0},0,0,0,null,0,null,null,null,null,0,null,null,null,null,null,0,null,null,null,null,null,0]
[null,19,0,{"$f":"D32","v":0},0,0,0,null,0,null,null,null,null,0,null,null,null,null,null,0,null,null,null,null,null,0]
[null,20,0,{"$f":"D33","v":0},0,0,0,null,0,null,null,null,null,0,null,null,null,null,null,0,null,null,null,null,null,0]
[null,21,0,{"$f":"D34","v":0},0,0,0,null,0,null,null,null,null,0,null,null,null,null,null,0,null,null,null,null,null,0]
[null,22,0,{"$f":"D35","v":0},0,0,0,null,0,null,null,null,null,0,null,null,null,null,null,0,null,null,null,null,null,0]
[null,23,0,{"$f":"D36","v":0},0,0,0,null,0,null,null,null,null,0,null,null,null,null,null,0,null,null,null,null,null,0]
[null,24,0,{"$f":"D37","v":0},0,0,0,null,0,null,null,null,null,0,null,null,null,null,null,0,null,null,null,null,null,0]
[null,25,0,{"$f":"D38","v":0},0,0,0,null,0,null,null,null,null,0,null,null,null,null,null,0,null,null,null,null,null,0]
[null,26,0,{"$f":"D39","v":0},0,0,0,null,0,null,null,null,null,0,null,null,null,null,null,0,null,null,null,null,null,0]
[null,27,0,{"$f":"D40","v":0},0,0,0,null,0,null,null,null,null,0,null,null,null,null,null,0,null,null,null,null,null,0]
[null,28,0,{"$f":"D41","v":0},0,0,0,null,0,null,null,null,null,0,null,null,null,null,null,0,null,null,null,null,null,0]
[null,29,0,{"$f":"D42","v":0},0,0,0,null,0,null,null,null,null,0,null,null,null,null,null,0,null,null,null,null,null,0]
[null,30,0,{"$f":"D43","v":0},0,0,0,null,0,null,null,null,null,0,null,null,null,null,null,0,null,null,null,null,null,0]
[null,31,0,{"$f":"D44","v":0},0,0,0,null,0,null,null,null,null,0,null,null,null,null,null,0,null,null,null,null,null,0]
[null,32,0,{"$f":"D45","v":0},0,0,0,null,0,null,null,null,null,0,null,null,null,null,null,0,null,null,null,null,null,0]
[null,33,0,{"$f":"D46","v":0},0,0,0,null,0,null,null,null,null,0,null,null,null,null,null,0,null,null,null,null,null,0]
[null,34,0,{"$f":"D47","v":0},0,0,0,null,0,null,null,null,null,0,null,null,null,null,null,0,null,null,null,null,null,0]
[null,35,0,{"$f":"D48","v":0},0,0,0,null,0,null,null,null,null,0,null,null,null,null,null,0,null,null,null,null,null,0]
[null,36,0,{"$f":"D49","v":0},0,0,0,null,0,null,null,null,null,0,null,null,null,null,null,0,null,null,null,null,null,0]
[null,37,0,{"$f":"D50","v":0},0,0,0,null,0,null,null,null,null,0,null,null,null,null,null,0,null,null,null,null,null,0]
[null,38,0,{"$f":"D51","v":0},0,0,0,null,0,null,null,null,null,0,null,null,null,null,null,0,null,null,null,null,null,0]
[null,39,0,{"$f":"D52","v":0},0,0,0,null,0,null,null,null,null,0,null,null,null,null,null,0,null,null,null,null,null,0]
[null,40,0,{"$f":"D53","v":0},0,0,0,null,0,null,null,null,null,0,null,null,null,null,null,0,null,null,null,null,null,0]
[null,41,0,{"$f":"D54","v":0},0,0,0,null,0,null,null,null,null,0,null,null,null,null,null,0,null,null,null,null,null,0]
[null,42,0,{"$f":"D55","v":0},0,0,0,null,0,null,null,null,null,0,null,null,null,null,null,0,null,null,null,null,null,0]
[null,43,0,{"$f":"D56","v":0},0,0,0,null,0,null,null,null,null,0,null,null,null,null,null,0,null,null,null,null,null,0]
[null,44,0,{"$f":"D57","v":0},0,0,0,null,0,null,null,null,null,0,null,null,null,null,null,0,null,null,null,null,null,0]
[null,45,0,{"$f":"D58","v":0},0,0,0,null,0,null,null,null,null,0,null,null,null,null,null,0,null,null,null,null,null,0]
[null,46,0,{"$f":"D59","v":0},0,0,0,null,0,null,null,null,null,0,null,null,null,null,null,0,null,null,null,null,null,0]
[null,47,0,{"$f":"D60","v":0},0,0,0,null,0,null,null,null,null,0,null,null,null,null,null,0,null,null,null,null,null,0]
[null,48,0,{"$f":"D61","v":0},0,0,0,null,0,null,null,null,null,0,null,null,null,null,null,0,null,null,null,null,null,0]
[null,49,0,{"$f":"D62","v":0},0,0,0,null,0,null,null,null,null,0,null,null,null,null,null,0,null,null,null,null,null,0]
[null,50,0,{"$f":"D63","v":0},0,0,0,null,0,null,null,null,null,0,null,null,null,null,null,0,null,null,null,null,null,0]
[]
[]
[null,null,null,null,null,null,null,null,null,null,null,null,null,null,null,null,null,null,null,null,null,null,null,null,null,null,"LUGAR Y FECHA",null,null,null,{"$f":"Y64","v":0}]
[]
[null,null,null,null,null,null,null,null,null,null,null,null,null,"DIRECTOR:",null,null,null,null,{"$f":"M66","v":0}]

{"sheet":"ABRIL","index":1,"n_rows":143,"n_cols":51,"rows_kept":143,"cut":false,"hidden":true,"merged":[[140,26,140,29],[140,30,140,43],[142,13,142,17],[142,18,142,28],[136,30,136,37],[137,8,137,11],[137,14,137,15],[137,16,137,17],[137,20,137,21],[137,22,137,23],[137,25,137,28],[137,30,137,37],[136,8,136,11],[136,14,136,15],[136,16,136,17],[136,20,136,21],[136,22,136,23],[136,25,136,28],[134,30,134,37],[135,8,135,11],[135,14,135,15],[135,16,135,17],[135,20,135,21],[135,22,135,23],[135,25,135,28],[135,30,135,37],[134,8,134,11],[134,14,134,15],[134,16,134,17],[134,20,134,21],[134,22,134,23],[134,25,134,28],[132,30,132,37],[133,8,133,11],[133,14,133,15],[133,16,133,17],[133,20,133,21],[133,22,133,23],[133,25,133,28],[133,30,133,37],[132,8,132,11],[132,14,132,15],[132,16,132,17],[132,20,132,21],[132,22,132,23],[132,25,132,28],[130,30,130,37],[131,8,131,11],[131,14,131,15],[131,16,131,17],[131,20,131,21],[131,22,131,23],[131,25,131,28],[131,30,131,37],[130,8,130,11],[130,14,130,15],[130,16,130,17],[130,20,130,21],[130,22,130,23],[130,25,130,28],[128,30,128,37],[129,8,129,11],[129,14,129,15],[129,16,129,17],[129,20,129,21],[129,22,129,23],[129,25,129,28],[129,30,129,37],[128,8,128,11],[128,14,128,15],[128,16,128,17],[128,20,128,21],[128,22,128,23],[128,25,128,28],[126,30,126,37],[127,8,127,11],[127,14,127,15],[127,16,127,17],[127,20,127,21],[127,22,127,23],[127,25,127,28],[127,30,127,37],[126,8,126,11],[126,14,126,15],[126,16,126,17],[126,20,126,21],[126,22,126,23],[126,25,126,28],[124,30,124,37],[125,8,125,11],[125,14,125,15],[125,16,125,17],[125,20,125,21],[125,22,125,23],[125,25,125,28],[125,30,125,37],[124,8,124,11],[124,14,124,15],[124,16,124,17],[124,20,124,21],[124,22,124,23],[124,25,124,28],[122,30,122,37],[123,8,123,11],[123,14,123,15],[123,16,123,17],[123,20,123,21],[123,22,123,23],[123,25,123,28],[123,30,123,37],[122,8,122,11],[122,14,122,15],[122,16,122,17],[122,20,122,21],[122,22,122,23],[122,25,122,28],[120,30,120,37],[121,8,121,11],[121,14,121,15],[121,16,121,17],[121,20,121,21],[121,22,121,23],[121,25,121,28],[121,30,121,37],[120,8,120,11],[120,14,120,15],[120,16,120,17],[120,20,120,21],[120,22,120,23],[120,25,120,28],[118,30,118,37],[119,8,119,11],[119,14,119,15],[119,16,119,17],[119,20,119,21],[119,22,119,23],[119,25,119,28],[119,30,119,37],[118,8,118,11],[118,14,118,15],[118,16,118,17],[118,20,118,21],[118,22,118,23],[118,25,118,28],[116,30,116,37],[117,8,117,11],[117,14,117,15],[117,16,117,17],[117,20,117,21],[117,22,117,23],[117,25,117,28],[117,30,117,37],[116,8,116,11],[116,14,116,15],[116,16,116,17],[116,20,116,21],[116,22,116,23],[116,25,116,28],[114,30,114,37],[115,8,115,11],[115,14,115,15],[115,16,115,17],[115,20,115,21],[115,22,115,23],[115,25,115,28],[115,30,115,37],[114,8,114,11],[114,14,114,15],[114,16,114,17],[114,20,114,21],[114,22,114,23],[114,25,114,28],[112,30,112,37],[113,8,113,11],[113,14,113,15],[113,16,113,17],[113,20,113,21],[113,22,113,23],[113,25,113,28],[113,30,113,37],[112,8,112,11],[112,14,112,15],[112,16,112,17],[112,20,112,21],[112,22,112,23],[112,25,112,28],[110,30,110,37],[111,8,111,11],[111,14,111,15],[111,16,111,17],[111,20,111,21],[111,22,111,23],[111,25,111,28],[111,30,111,37],[110,8,110,11],[110,14,110,15],[110,16,110,17],[110,20,110,21],[110,22,110,23],[110,25,110,28],[108,30,108,37],[109,8,109,11],[109,14,109,15],[109,16,109,17],[109,20,109,21],[109,22,109,23],[109,25,109,28],[109,30,109,37],[108,8,108,11],[108,14,108,15],[108,16,108,17],[108,20,108,21],[108,22,108,23],[108,25,108,28],[106,30,106,37],[107,8,107,11],[107,14,107,15],[107,16,107,17],[107,20,107,21],[107,22,107,23],[107,25,107,28],[107,30,107,37],[106,8,106,11],[106,14,106,15],[106,16,106,17],[106,20,106,21],[106,22,106,23],[106,25,106,28],[104,30,104,37],[105,8,105,11],[105,14,105,15],[105,16,105,17],[105,20,105,21],[105,22,105,23],[105,25,105,28],[105,30,105,37],[104,8,104,11],[104,14,104,15],[104,16,104,17],[104,20,104,21],[104,22,104,23],[104,25,104,28],[102,30,102,37],[103,8,103,11],[103,14,103,15],[103,16,103,17],[103,20,103,21],[103,22,103,23],[103,25,103,28],[103,30,103,37],[102,8,102,11],[102,14,102,15],[102,16,102,17],[102,20,102,21],[102,22,102,23],[102,25,102,28],[100,30,100,37],[101,8,101,11],[101,14,101,15],[101,16,101,17],[101,20,101,21],[101,22,101,23],[101,25,101,28],[101,30,101,37],[100,8,100,11],[100,14,100,15],[100,16,100,17],[100,20,100,21],[100,22,100,23],[100,25,100,28],[98,30,98,37],[99,8,99,11],[99,14,99,15],[99,16,99,17],[99,20,99,21],[99,22,99,23],[99,25,99,28],[99,30,99,37],[98,8,98,11],[98,14,98,15],[98,16,98,17],[98,20,98,21],[98,22,98,23],[98,25,98,28],[96,30,96,37],[97,8,97,11],[97,14,97,15],[97,16,97,17],[97,20,97,21],[97,22,97,23],[97,25,97,28],[97,30,97,37],[96,8,96,11],[96,14,96,15],[96,16,96,17],[96,20,96,21],[96,22,96,23],[96,25,96,28],[94,30,94,37],[95,8,95,11],[95,14,95,15],[95,16,95,17],[95,20,95,21],[95,22,95,23],[95,25,95,28],[95,30,95,37],[94,8,94,11],[94,14,94,15],[94,16,94,17],[94,20,94,21],[94,22,94,23],[94,25,94,28],[92,30,92,37],[93,8,93,11],[93,14,93,15],[93,16,93,17],[93,20,93,21],[93,22,93,23],[93,25,93,28],[93,30,93,37],[92,8,92,11],[92,14,92,15],[92,16,92,17],[92,20,92,21],[92,22,92,23],[92,25,92,28],[90,30,90,37],[91,8,91,11],[91,14,91,15],[91,16,91,17],[91,20,91,21],[91,22,91,23],[91,25,91,28],[91,30,91,37],[90,8,90,11],[90,14,90,15],[90,16,90,17],[90,20,90,21],[90,22,90,23],[90,25,90,28],[89,8,89,11],[89,14,89,15],[89,16,89,17],[89,20,89,21],[89,22,89,23],[89,25,89,28],[89,30,89,37],[86,20,87,21],[86,22,87,23],[86,25,87,28],[88,8,88,11],[88,14,88,15],[88,16,88,17],[88,20,88,21],[88,22,88,23],[88,25,88,28],[85,19,85,23],[85,25,85,28],[85,30,87,37],[86,8,87,11],[86,13,87,13],[86,14,87,15],[86,16,87,17],[86,19,87,19],[88,30,88,37],[80,1,80,2],[80,7,80,9],[80,10,80,13],[82,1,82,2],[85,1,87,1],[85,2,87,2],[85,3,87,3],[85,4,87,4],[85,5,87,5],[85,6,87,6],[85,8,85,11],[85,13,85,17],[73,2,73,5],[75,0,75,38],[76,1,76,30],[78,1,78,3],[78,7,78,9],[78,10,78,13],[66,2,66,5],[67,2,67,5],[69,2,69,5],[70,2,70,5],[71,2,71,5],[72,2,72,5],[68,2,68,5],[18,52,18,55],[19,52,19,55],[20,52,20,55],[63,20,63,23],[63,24,63,37],[65,1,65,5],[65,7,65,11],[65,12,65,22],[10,6,12,6],[10,7,10,37],[13,52,13,55],[14,52,14,55],[16,52,16,55],[17,52,17,55],[7,1,7,2],[10,1,12,1],[10,2,12,2],[10,3,12,3],[10,4,12,4],[10,5,12,5],[1,3,1,13],[3,1,3,3],[3,7,3,9],[3,10,3,13],[5,1,5,2],[5,7,5,9],[5,10,5,13]]}
[]
[null,null,null,"FORMATO 01: REPORTE DE ASISTENCIA DETALLADO"]
[]
[null,"UGEL SAN IGNACIO",null,null,null,null,null,"PERIODO",null,null,"Abril"]
[]
[null,"II.EE:",null,{"$f":"MARZO!D6","v":16801},null,null,null,"TURNO",null,null,{"$f":"MARZO!K6","v":"mañana"}]
[]
[null,"NIVEL/MODALIDAD",null,{"$f":"MARZO!D8","v":"secundaria"}]
[]
[]
[null,"N°","DNI","APELLIDOS Y NOMBRES","CARGO","CONDICION","JOR. LAB.","DIAS CALENDARIOS",null,null,null,null,null,null,null,null,null,null,null,null,null,null,null,null,null,null,null,null,null,null,null,null,null,null,null,null,null,null,null,"INICIAL","D","NOMBRADO","A"]
[null,null,null,null,null,null,null,1,2,3,4,5,6,7,8,9,10,11,12,13,14,15,16,17,18,19,20,21,22,23,24,25,26,27,28,29,30,null,null,"PRIMARIA ","L","DESTACADO","I"]
[null,null,null,null,null,null,null,"M","J","V","S","D","L","M","M","J","V","S","D","L","M","M","J","V","S","D","L","M","M","J","V","S","D","L","M","M","J",null,null,"SECUNDARIA","M","ENCARGADO","D"]
[null,1,{"$f":"MARZO!C14","v":37736657},{"$f":"MARZO!D14","v":"Flores Tello Segundo Alejandro"},{"$f":"MARZO!E14","v":"docente"},{"$f":"MARZO!F14","v":"NOMBRADO"},{"$f":"MARZO!G14","v":30},null,null,null,"D","D",null,null,null,null,null,"D","D",null,null,null,null,null,"D","D",null,null,null,null,null,"D","D",null,null,null,null,null,null,"EBE","M","CONTRATADO","J",{"$f":"COUNTIF(H14:AL14,\"=A\")","v":0},{"$f":"COUNTIF(H14:AL14,\"=I\")","v":0},{"$f":"COUNTIF(H14:AL14,\"=3T\")","v":0},{"$f":"COUNTIF(H14:AL14,\"=J\")","v":0},{"$f":"COUNTIF(H14:AL14,\"=L\")","v":0},{"$f":"COUNTIF(H14:AL14,\"=P\")","v":0},{"$f":"COUNTIF(H14:AL14,\"=T\")","v":0},{"$f":"COUNTIF(H14:AL14,\"=H\")","v":0}]
[null,2,{"$f":"MARZO!C15","v":0},{"$f":"MARZO!D15","v":0},{"$f":"MARZO!E15","v":0},{"$f":"MARZO!F15","v":0},{"$f":"MARZO!G15","v":0},null,null,null,"D","D",null,null,null,null,null,"D","D",null,null,null,null,null,"D","D",null,null,null,null,null,"D","D",null,null,null,null,null,null,"EBA ","J",null,"L",{"$f":"COUNTIF(H15:AL15,\"=A\")","v":0},{"$f":"COUNTIF(H15:AL15,\"=I\")","v":0},{"$f":"COUNTIF(H15:AL15,\"=3T\")","v":0},{"$f":"COUNTIF(H15:AL15,\"=J\")","v":0},{"$f":"COUNTIF(H15:AL15,\"=L\")","v":0},{"$f":"COUNTIF(H15:AL15,\"=P\")","v":0},{"$f":"COUNTIF(H15:AL15,\"=T\")","v":0},{"$f":"COUNTIF(H15:AL15,\"=H\")","v":0}]
[null,3,{"$f":"MARZO!C16","v":0},{"$f":"MARZO!D16","v":0},{"$f":"MARZO!E16","v":0},{"$f":"MARZO!F16","v":0},{"$f":"MARZO!G16","v":0},null,null,null,"D","D",null,null,null,null,null,"D","D",null,null,null,null,null,"D","D",null,null,null,null,null,"D","D",null,null,null,null,null,null,null,"V",null,"P",0,0,0,0,0,0,0,0]
[null,4,{"$f":"MARZO!C17","v":0},{"$f":"MARZO!D17","v":0},{"$f":"MARZO!E17","v":0},{"$f":"MARZO!F17","v":0},{"$f":"MARZO!G17","v":0},null,null,null,"D","D",null,null,null,null,null,"D","D",null,null,null,null,null,"D","D",null,null,null,null,null,"D","D",null,null,null,null,null,null,null,"S",null,"T",0,0,0,0,0,0,0,0]
[null,5,{"$f":"MARZO!C18","v":0},{"$f":"MARZO!D18","v":0},{"$f":"MARZO!E18","v":0},{"$f":"MARZO!F18","v":0},{"$f":"MARZO!G18","v":0},null,null,null,"D","D",null,null,null,null,null,"D","D",null,null,null,null,null,"D","D",null,null,null,null,null,"D","D",null,null,null,null,null,null,null,null,null,"H",0,0,0,0,0,0,0,0]
[null,6,{"$f":"MARZO!C19","v":0},{"$f":"MARZO!D19","v":0},{"$f":"MARZO!E19","v":0},{"$f":"MARZO!F19","v":0},{"$f":"MARZO!G19","v":0},null,null,null,"D","D",null,null,null,null,null,"D","D",null,null,null,null,null,"D","D",null,null,null,null,null,"D","D",null,null,null,null,null,null,null,null,null,null,0,0,0,0,0,0,0,0]
[null,7,{"$f":"MARZO!C20","v":0},{"$f":"MARZO!D20","v":0},{"$f":"MARZO!E20","v":0},{"$f":"MARZO!F20","v":0},{"$f":"MARZO!G20","v":0},null,null,null,"D","D",null,null,null,null,null,"D","D",null,null,null,null,null,"D","D",null,null,null,null,null,"D","D",null,null,null,null,null,null,null,null,null,null,0,0,0,0,0,0,0,0]
[null,8,{"$f":"MARZO!C21","v":0},{"$f":"MARZO!D21","v":0},{"$f":"MARZO!E21","v":0},{"$f":"MARZO!F21","v":0},{"$f":"MARZO!G21","v":0},null,null,null,"D","D",null,null,null,null,null,"D","D",null,null,null,null,null,"D","D",null,null,null,null,null,"D","D",null,null,null,null,null,null,null,null,null,null,0,0,0,0,0,0,0,0]
[null,9,{"$f":"MARZO!C22","v":0},{"$f":"MARZO!D22","v":0},{"$f":"MARZO!E22","v":0},{"$f":"MARZO!F22","v":0},{"$f":"MARZO!G22","v":0},null,null,null,"D","D",null,null,null,null,null,"D","D",null,null,null,null,null,"D","D",null,null,null,null,null,"D","D",null,null,null,null,null,null,null,null,null,null,0,0,0,0,0,0,0,0]
[null,10,{"$f":"MARZO!C23","v":0},{"$f":"MARZO!D23","v":0},{"$f":"MARZO!E23","v":0},{"$f":"MARZO!F23","v":0},{"$f":"MARZO!G23","v":0},null,null,null,"D","D",null,null,null,null,null,"D","D",null,null,null,null,null,"D","D",null,null,null,null,null,"D","D",null,null,null,null,null,null,null,null,null,null,0,0,0,0,0,0,0,0]
[null,11,{"$f":"MARZO!C24","v":0},{"$f":"MARZO!D24","v":0},{"$f":"MARZO!E24","v":0},{"$f":"MARZO!F24","v":0},{"$f":"MARZO!G24","v":0},null,null,null,"D","D",null,null,null,null,null,"D","D",null,null,null,null,null,"D","D",null,null,null,null,null,"D","D",null,null,null,null,null,null,null,null,null,null,0,0,0,0,0,0,0,0]
[null,12,{"$f":"MARZO!C25","v":0},{"$f":"MARZO!D25","v":0},{"$f":"MARZO!E25","v":0},{"$f":"MARZO!F25","v":0},{"$f":"MARZO!G25","v":0},null,null,null,"D","D",null,null,null,null,null,"D","D",null,null,null,null,null,"D","D",null,null,null,null,null,"D","D",null,null,null,null,null,null,null,null,null,null,0,0,0,0,0,0,0,0]
[null,13,{"$f":"MARZO!C26","v":0},{"$f":"MARZO!D26","v":0},{"$f":"MARZO!E26","v":0},{"$f":"MARZO!F26","v":0},{"$f":"MARZO!G26","v":0},null,null,null,"D","D",null,null,null,null,null,"D","D",null,null,null,null,null,"D","D",null,null,null,null,null,"D","D",null,null,null,null,null,null,null,null,null,null,0,0,0,0,0,0,0,0]
[null,14,{"$f":"MARZO!C27","v":0},{"$f":"MARZO!D27","v":0},{"$f":"MARZO!E27","v":0},{"$f":"MARZO!F27","v":0},{"$f":"MARZO!G27","v":0},null,null,null,"D","D",null,null,null,null,null,"D","D",null,null,null,null,null,"D","D",null,null,null,null,null,"D","D",null,null,null,null,null,null,null,null,null,null,0,0,0,0,0,0,0,0]
[null,15,{"$f":"MARZO!C28","v":0},{"$f":"MARZO!D28","v":0},{"$f":"MARZO!E28","v":0},{"$f":"MARZO!F28","v":0},{"$f":"MARZO!G28","v":0},null,null,null,"D","D",null,null,null,null,null,"D","D",null,null,null,null,null,"D","D",null,null,null,null,null,"D","D",null,null,null,null,null,null,null,null,null,null,0,0,0,0,0,0,0,0]
[null,16,{"$f":"MARZO!C29","v":0},{"$f":"MARZO!D29","v":0},{"$f":"MARZO!E29","v":0},{"$f":"MARZO!F29","v":0},{"$f":"MARZO!G29","v":0},null,null,null,"D","D",null,null,null,null,null,"D","D",null,null,null,null,null,"D","D",null,null,null,null,null,"D","D",null,null,null,null,null,null,null,null,null,null,0,0,0,0,0,0,0,0]
[null,17,{"$f":"MARZO!C30","v":0},{"$f":"MARZO!D30","v":0},{"$f":"MARZO!E30","v":0},{"$f":"MARZO!F30","v":0},{"$f":"MARZO!G30","v":0},null,null,null,"D","D",null,null,null,null,null,"D","D",null,null,null,null,null,"D","D",null,null,null,null,null,"D","D",null,null,null,null,null,null,null,null,null,null,0,0,0,0,0,0,0,0]
[null,18,{"$f":"MARZO!C31","v":0},{"$f":"MARZO!D31","v":0},{"$f":"MARZO!E31","v":0},{"$f":"MARZO!F31","v":0},{"$f":"MARZO!G31","v":0},null,null,null,"D","D",null,null,null,null,null,"D","D",null,null,null,null,null,"D","D",null,null,null,null,null,"D","D",null,null,null,null,null,null,null,null,null,null,0,0,0,0,0,0,0,0]
[null,19,{"$f":"MARZO!C32","v":0},{"$f":"MARZO!D32","v":0},{"$f":"MARZO!E32","v":0},{"$f":"MARZO!F32","v":0},{"$f":"MARZO!G32","v":0},null,null,null,"D","D",null,null,null,null,null,"D","D",null,null,null,null,null,"D","D",null,null,null,null,null,"D","D",null,null,null,null,null,null,null,null,null,null,0,0,0,0,0,0,0,0]
[null,20,{"$f":"MARZO!C33","v":0},null,{"$f":"MARZO!E33","v":0},{"$f":"MARZO!F33","v":0},{"$f":"MARZO!G33","v":0},null,null,null,"D","D",null,null,null,null,null,"D","D",null,null,null,null,null,"D","D",null,null,null,null,null,"D","D",null,null,null,null,null,null,null,null,null,null,0,0,0,0,0,0,0,0]
[null,21,{"$f":"MARZO!C34","v":0},{"$f":"MARZO!D34","v":0},{"$f":"MARZO!E34","v":0},{"$f":"MARZO!F34","v":0},{"$f":"MARZO!G34","v":0},null,null,null,"D","D",null,null,null,null,null,"D","D",null,null,null,null,null,"D","D",null,null,null,null,null,"D","D",null,null,null,null,null,null,null,null,null,null,0,0,0,0,0,0,0,0]
[null,22,{"$f":"MARZO!C35","v":0},{"$f":"MARZO!D35","v":0},{"$f":"MARZO!E35","v":0},{"$f":"MARZO!F35","v":0},{"$f":"MARZO!G35","v":0},null,null,null,"D","D",null,null,null,null,null,"D","D",null,null,null,null,null,"D","D",null,null,null,null,null,"D","D",null,null,null,null,null,null,null,null,null,null,0,0,0,0,0,0,0,0]
[null,23,{"$f":"MARZO!C36","v":0},{"$f":"MARZO!D36","v":0},{"$f":"MARZO!E36","v":0},{"$f":"MARZO!F36","v":0},{"$f":"MARZO!G36","v":0},null,null,null,"D","D",null,null,null,null,null,"D","D",null,null,null,null,null,"D","D",null,null,null,null,null,"D","D",null,null,null,null,null,null,null,null,null,null,0,0,0,0,0,0,0,0]
[null,24,{"$f":"MARZO!C37","v":0},{"$f":"MARZO!D37","v":0},{"$f":"MARZO!E37","v":0},{"$f":"MARZO!F37","v":0},{"$f":"MARZO!G37","v":0},null,null,null,"D","D",null,null,null,null,null,"D","D",null,null,null,null,null,"D","D",null,null,null,null,null,"D","D",null,null,null,null,null,null,null,null,null,null,0,0,0,0,0,0,0,0]
[null,25,{"$f":"MARZO!C38","v":0},{"$f":"MARZO!D38","v":0},{"$f":"MARZO!E38","v":0},{"$f":"MARZO!F38","v":0},{"$f":"MARZO!G38","v":0},null,null,null,"D","D",null,null,null,null,null,"D","D",null,null,null,null,null,"D","D",null,null,null,null,null,"D","D",null,null,null,null,null,null,null,null,null,null,0,0,0,0,0,0,0,0]
[null,26,{"$f":"MARZO!C39","v":0},{"$f":"MARZO!D39","v":0},{"$f":"MARZO!E39","v":0},{"$f":"MARZO!F39","v":0},{"$f":"MARZO!G39","v":0},null,null,null,"D","D",null,null,null,null,null,"D","D",null,null,null,null,null,"D","D",null,null,null,null,null,"D","D",null,null,null,null,null,null,null,null,null,null,0,0,0,0,0,0,0,0]
[null,27,{"$f":"MARZO!C40","v":0},{"$f":"MARZO!D40","v":0},{"$f":"MARZO!E40","v":0},{"$f":"MARZO!F40","v":0},{"$f":"MARZO!G40","v":0},null,null,null,"D","D",null,null,null,null,null,"D","D",null,null,null,null,null,"D","D",null,null,null,null,null,"D","D",null,null,null,null,null,null,null,null,null,null,0,0,0,0,0,0,0,0]
[null,28,{"$f":"MARZO!C41","v":0},{"$f":"MARZO!D41","v":0},{"$f":"MARZO!E41","v":0},{"$f":"MARZO!F41","v":0},{"$f":"MARZO!G41","v":0},null,null,null,"D","D",null,null,null,null,null,"D","D",null,null,null,null,null,"D","D",null,null,null,null,null,"D","D",null,null,null,null,null,null,null,null,null,null,0,0,0,0,0,0,0,0]
[null,29,{"$f":"MARZO!C42","v":0},{"$f":"MARZO!D42","v":0},{"$f":"MARZO!E42","v":0},{"$f":"MARZO!F42","v":0},{"$f":"MARZO!G42","v":0},null,null,null,"D","D",null,null,null,null,null,"D","D",null,null,null,null,null,"D","D",null,null,null,null,null,"D","D",null,null,null,null,null,null,null,null,null,null,0,0,0,0,0,0,0,0]
[null,30,{"$f":"MARZO!C43","v":0},{"$f":"MARZO!D43","v":0},{"$f":"MARZO!E43","v":0},{"$f":"MARZO!F43","v":0},{"$f":"MARZO!G43","v":0},null,null,null,"D","D",null,null,null,null,null,"D","D",null,null,null,null,null,"D","D",null,null,null,null,null,"D","D",null,null,null,null,null,null,null,null,null,null,0,0,0,0,0,0,0,0]
[null,31,{"$f":"MARZO!C44","v":0},{"$f":"MARZO!D44","v":0},{"$f":"MARZO!E44","v":0},{"$f":"MARZO!F44","v":0},{"$f":"MARZO!G44","v":0},null,null,null,"D","D",null,null,null,null,null,"D","D",null,null,null,null,null,"D","D",null,null,null,null,null,"D","D",null,null,null,null,null,null,null,null,null,null,0,0,0,0,0,0,0,0]
[null,32,{"$f":"MARZO!C45","v":0},{"$f":"MARZO!D45","v":0},{"$f":"MARZO!E45","v":0},{"$f":"MARZO!F45","v":0},{"$f":"MARZO!G45","v":0},null,null,null,"D","D",null,null,null,null,null,"D","D",null,null,null,null,null,"D","D",null,null,null,null,null,"D","D",null,null,null,null,null,null,null,null,null,null,0,0,0,0,0,0,0,0]
[null,33,{"$f":"MARZO!C46","v":0},{"$f":"MARZO!D46","v":0},{"$f":"MARZO!E46","v":0},{"$f":"MARZO!F46","v":0},{"$f":"MARZO!G46","v":0},null,null,null,"D","D",null,null,null,null,null,"D","D",null,null,null,null,null,"D","D",null,null,null,null,null,"D","D",null,null,null,null,null,null,null,null,null,null,0,0,0,0,0,0,0,0]
[null,34,{"$f":"MARZO!C47","v":0},{"$f":"MARZO!D47","v":0},{"$f":"MARZO!E47","v":0},{"$f":"MARZO!F47","v":0},{"$f":"MARZO!G47","v":0},null,null,null,"D","D",null,null,null,null,null,"D","D",null,null,null,null,null,"D","D",null,null,null,null,null,"D","D",null,null,null,null,null,null,null,null,null,null,0,0,0,0,0,0,0,0]
[null,35,{"$f":"MARZO!C48","v":0},{"$f":"MARZO!D48","v":0},{"$f":"MARZO!E48","v":0},{"$f":"MARZO!F48","v":0},{"$f":"MARZO!G48","v":0},null,null,null,"D","D",null,null,null,null,null,"D","D",null,null,null,null,null,"D","D",null,null,null,null,null,"D","D",null,null,null,null,null,null,null,null,null,null,0,0,0,0,0,0,0,0]
[null,36,{"$f":"MARZO!C49","v":0},{"$f":"MARZO!D49","v":0},{"$f":"MARZO!E49","v":0},{"$f":"MARZO!F49","v":0},{"$f":"MARZO!G49","v":0},null,null,null,"D","D",null,null,null,null,null,"D","D",null,null,null,null,null,"D","D",null,null,null,null,null,"D","D",null,null,null,null,null,null,null,null,null,null,0,0,0,0,0,0,0,0]
[null,37,{"$f":"MARZO!C50","v":0},{"$f":"MARZO!D50","v":0},{"$f":"MARZO!E50","v":0},{"$f":"MARZO!F50","v":0},{"$f":"MARZO!G50","v":0},null,null,null,"D","D",null,null,null,null,null,"D","D",null,null,null,null,null,"D","D",null,null,null,null,null,"D","D",null,null,null,null,null,null,null,null,null,null,0,0,0,0,0,0,0,0]
[null,38,{"$f":"MARZO!C51","v":0},{"$f":"MARZO!D51","v":0},{"$f":"MARZO!E51","v":0},{"$f":"MARZO!F51","v":0},{"$f":"MARZO!G51","v":0},null,null,null,"D","D",null,null,null,null,null,"D","D",null,null,null,null,null,"D","D",null,null,null,null,null,"D","D",null,null,null,null,null,null,null,null,null,null,0,0,0,0,0,0,0,0]
[null,39,{"$f":"MARZO!C52","v":0},{"$f":"MARZO!D52","v":0},{"$f":"MARZO!E52","v":0},{"$f":"MARZO!F52","v":0},{"$f":"MARZO!G52","v":0},null,null,null,"D","D",null,null,null,null,null,"D","D",null,null,null,null,null,"D","D",null,null,null,null,null,"D","D",null,null,null,null,null,null,null,null,null,null,0,0,0,0,0,0,0,0]
[null,40,{"$f":"MARZO!C53","v":0},{"$f":"MARZO!D53","v":0},{"$f":"MARZO!E53","v":0},{"$f":"MARZO!F53","v":0},{"$f":"MARZO!G53","v":0},null,null,null,"D","D",null,null,null,null,null,"D","D",null,null,null,null,null,"D","D",null,null,null,null,null,"D","D",null,null,null,null,null,null,null,null,null,null,0,0,0,0,0,0,0,0]
[null,41,{"$f":"MARZO!C54","v":0},{"$f":"MARZO!D54","v":0},{"$f":"MARZO!E54","v":0},{"$f":"MARZO!F54","v":0},{"$f":"MARZO!G54","v":0},null,null,null,"D","D",null,null,null,null,null,"D","D",null,null,null,null,null,"D","D",null,null,null,null,null,"D","D",null,null,null,null,null,null,null,null,null,null,0,0,0,0,0,0,0,0]
[null,42,{"$f":"MARZO!C55","v":0},{"$f":"MARZO!D55","v":0},{"$f":"MARZO!E55","v":0},{"$f":"MARZO!F55","v":0},{"$f":"MARZO!G55","v":0},null,null,null,"D","D",null,null,null,null,null,"D","D",null,null,null,null,null,"D","D",null,null,null,null,null,"D","D",null,null,null,null,null,null,null,null,null,null,0,0,0,0,0,0,0,0]
[null,43,{"$f":"MARZO!C56","v":0},{"$f":"MARZO!D56","v":0},{"$f":"MARZO!E56","v":0},{"$f":"MARZO!F56","v":0},{"$f":"MARZO!G56","v":0},null,null,null,"D","D",null,null,null,null,null,"D","D",null,null,null,null,null,"D","D",null,null,null,null,null,"D","D",null,null,null,null,null,null,null,null,null,null,0,0,0,0,0,0,0,0]
[null,44,{"$f":"MARZO!C57","v":0},{"$f":"MARZO!D57","v":0},{"$f":"MARZO!E57","v":0},{"$f":"MARZO!F57","v":0},{"$f":"MARZO!G57","v":0},null,null,null,"D","D",null,null,null,null,null,"D","D",null,null,null,null,null,"D","D",null,null,null,null,null,"D","D",null,null,null,null,null,null,null,null,null,null,0,0,0,0,0,0,0,0]
[null,45,{"$f":"MARZO!C58","v":0},{"$f":"MARZO!D58","v":0},{"$f":"MARZO!E58","v":0},{"$f":"MARZO!F58","v":0},{"$f":"MARZO!G58","v":0},null,null,null,"D","D",null,null,null,null,null,"D","D",null,null,null,null,null,"D","D",null,null,null,null,null,"D","D",null,null,null,null,null,null,null,null,null,null,0,0,0,0,0,0,0,0]
[null,46,{"$f":"MARZO!C59","v":0},{"$f":"MARZO!D59","v":0},{"$f":"MARZO!E59","v":0},{"$f":"MARZO!F59","v":0},{"$f":"MARZO!G59","v":0},null,null,null,"D","D",null,null,null,null,null,"D","D",null,null,null,null,null,"D","D",null,null,null,null,null,"D","D",null,null,null,null,null,null,null,null,null,null,0,0,0,0,0,0,0,0]
[null,47,{"$f":"MARZO!C60","v":0},{"$f":"MARZO!D60","v":0},{"$f":"MARZO!E60","v":0},{"$f":"MARZO!F60","v":0},{"$f":"MARZO!G60","v":0},null,null,null,"D","D",null,null,null,null,null,"D","D",null,null,null,null,null,"D","D",null,null,null,null,null,"D","D",null,null,null,null,null,null,null,null,null,null,0,0,0,0,0,0,0,0]
[null,48,{"$f":"MARZO!C61","v":0},{"$f":"MARZO!D61","v":0},{"$f":"MARZO!E61","v":0},{"$f":"MARZO!F61","v":0},{"$f":"MARZO!G61","v":0},null,null,null,"D","D",null,null,null,null,null,"D","D",null,null,null,null,null,"D","D",null,null,null,null,null,"D","D",null,null,null,null,null,null,null,null,null,null,0,0,0,0,0,0,0,0]
[null,49,{"$f":"MARZO!C62","v":0},{"$f":"MARZO!D62","v":0},{"$f":"MARZO!E62","v":0},{"$f":"MARZO!F62","v":0},{"$f":"MARZO!G62","v":0},null,null,null,"D","D",null,null,null,null,null,"D","D",null,null,null,null,null,"D","D",null,null,null,null,null,"D","D",null,null,null,null,null,null,null,null,null,null,0,0,0,0,0,0,0,0]
[null,50,{"$f":"MARZO!C63","v":0},{"$f":"MARZO!D63","v":0},{"$f":"MARZO!E63","v":0},{"$f":"MARZO!F63","v":0},{"$f":"MARZO!G63","v":0},null,null,null,"D","D",null,null,null,null,null,"D","D",null,null,null,null,null,"D","D",null,null,null,null,null,"D","D",null,null,null,null,null,null,null,null,null,null,0,0,0,0,0,0,0,0]
[null,null,null,null,null,null,null,null,null,null,null,null,null,null,null,null,null,null,null,null,"LUGAR Y FECHA",null,null,null,{"$f":"MARZO!Y64","v":0},null,null,null,null,null,null,null,null,null,null,null,null,null,null,null,null,null,null,0,0,0,0,0,0,0,0]
[null,null,null,null,null,null,null,null,null,null,null,null,null,null,null,null,null,null,null,null,null,null,null,null,null,null,null,null,null,null,null,null,null,null,null,null,null,null,null,null,null,null,null,0,0,0,0,0,0,0,0]
[null,"LEYENDA",null,null,null,null,null,"DIRECTOR:",null,null,null,null,{"$f":"MARZO!M66","v":0},null,null,null,null,null,null,null,null,null,null,null,null,null,null,null,null,null,null,null,null,null,null,null,null,null,null,null,null,null,null,0,0,0,0,0,0,0,0]
[null,"A","DIA LABORADO",null,null,null,null,null,null,null,null,null,null,null,null,null,null,null,null,null,null,null,null,null,null,null,null,null,null,null,null,null,null,null,null,null,null,null,null,null,null,null,null,0,0,0,0,0,0,0,0]
[null,"I","INASISTENCIA INJUSTIFICADA",null,null,null,null,null,null,null,null,null,null,null,null,null,null,null,null,null,null,null,null,null,null,null,null,null,null,null,null,null,null,null,null,null,null,null,null,null,null,null,null,0,0,0,0,0,0,0,0]
[null,"D","SABADO, DOMINGO Y FERIADOS",null,null,null,null,null,null,null,null,null,null,null,null,null,null,null,null,null,null,null,null,null,null,null,null,null,null,null,null,null,null,null,null,null,null,null,null,null,null,null,null,0,0,0,0,0,0,0,0]
[null,"J","INASISTENCIA JUSTIFICADA (LICENCIA CON GOCE DE REMUNARACIONES, PERMISO, VACACIONES)",null,null,null,null,null,null,null,null,null,null,null,null,null,null,null,null,null,null,null,null,null,null,null,null,null,null,null,null,null,null,null,null,null,null,null,null,null,null,null,null,0,0,0,0,0,0,0,0]
[null,"L","LICENCIA SIN GOCE DE REMUNERACIONES",null,null,null,null,null,null,null,null,null,null,null,null,null,null,null,null,null,null,null,null,null,null,null,null,null,null,null,null,null,null,null,null,null,null,null,null,null,null,null,null,0,0,0,0,0,0,0,0]
[null,"P","PERMISO SIN GOCE DE REMUNERACIONES",null,null,null,null,null,null,null,null,null,null,null,null,null,null,null,null,null,null,null,null,null,null,null,null,null,null,null,null,null,null,null,null,null,null,null,null,null,null,null,null,0,0,0,0,0,0,0,0]
[null,"T","TARDANZA",null,null,null,null,null,null,null,null,null,null,null,null,null,null,null,null,null,null,null,null,null,null,null,null,null,null,null,null,null,null,null,null,null,null,null,null,null,null,null,null,0,0,0,0,0,0,0,0]
[null,"H","HUELGA O PARO"]
[]
[]
[null,"FORMATO 02: REPORTE CONSOLIDADO DE INASISTENCIAS, TARDANZAS Y PERMISOS SIN GOCE DE REMUNERACIONES"]
[]
[null,"UGEL SAN IGNACIO",null,null,null,null,null,"PERIODO",null,null,{"$f":"K4","v":"Abril"}]
[]
[null,"II.EE:",null,{"$f":"MARZO!D81","v":16801},null,null,null,"TURNO",null,null,{"$f":"K6","v":"mañana"}]
[]
[null,"NIVEL/MODALIDAD",null,{"$f":"MARZO!D83","v":"secundaria"}]
[]
[]
[null,"N°","DNI","APELLIDOS Y NOMBRES","CARGO","CONDICION","JOR. LAB.",null,"INASISTENCIAS",null,null,null,null,"TARDANZAS",null,null,null,null,null,"PERMISOS SG",null,null,null,null,null,"HUELGA/PARO",null,null,null,null,"OBSERVACIONES"]
[null,null,null,null,null,null,null,null,"DÍAS",null,null,null,null,"TOTAL","HORAS",null,"MINUTOS",null,null,"TOTAL","HORAS",null,"MINUTOS",null,null,"DÍAS"]
[]
[null,1,{"$f":"ABRIL!C14","v":37736657},{"$f":"ABRIL!D14","v":"Flores Tello Segundo Alejandro"},{"$f":"ABRIL!E14","v":"docente"},{"$f":"ABRIL!F14","v":"NOMBRADO"},{"$f":"ABRIL!G14","v":30},null,{"$f":"AS14","v":0},null,null,null,null,{"$f":"AX14","v":0},null,null,null,null,null,{"$f":"AW14","v":0},null,null,null,null,null,{"$f":"AY14","v":0}]
[null,2,{"$f":"ABRIL!C15","v":0},{"$f":"ABRIL!D15","v":0},{"$f":"ABRIL!E15","v":0},{"$f":"ABRIL!F15","v":0},{"$f":"ABRIL!G15","v":0},null,{"$f":"AS15","v":0},null,null,null,null,{"$f":"AX15","v":0},null,null,null,null,null,{"$f":"AW15","v":0},null,null,null,null,null,{"$f":"AY15","v":0}]
[null,3,{"$f":"ABRIL!C16","v":0},{"$f":"ABRIL!D16","v":0},{"$f":"ABRIL!E16","v":0},{"$f":"ABRIL!F16","v":0},{"$f":"ABRIL!G16","v":0},null,0,null,null,null,null,0,null,null,null,null,null,0,null,null,null,null,null,0]
[null,4,{"$f":"ABRIL!C17","v":0},{"$f":"ABRIL!D17","v":0},{"$f":"ABRIL!E17","v":0},{"$f":"ABRIL!F17","v":0},{"$f":"ABRIL!G17","v":0},null,0,null,null,null,null,0,null,null,null,null,null,0,null,null,null,null,null,0]
[null,5,{"$f":"ABRIL!C18","v":0},{"$f":"ABRIL!D18","v":0},{"$f":"ABRIL!E18","v":0},{"$f":"ABRIL!F18","v":0},{"$f":"ABRIL!G18","v":0},null,0,null,null,null,null,0,null,null,null,null,null,0,null,null,null,null,null,0]
[null,6,{"$f":"ABRIL!C19","v":0},{"$f":"ABRIL!D19","v":0},{"$f":"ABRIL!E19","v":0},{"$f":"ABRIL!F19","v":0},{"$f":"ABRIL!G19","v":0},null,0,null,null,null,null,0,null,null,null,null,null,0,null,null,null,null,null,0]
[null,7,{"$f":"ABRIL!C20","v":0},{"$f":"ABRIL!D20","v":0},{"$f":"ABRIL!E20","v":0},{"$f":"ABRIL!F20","v":0},{"$f":"ABRIL!G20","v":0},null,0,null,null,null,null,{"$f":"AX20","v":0},null,null,null,null,null,0,null,null,null,null,null,0]
[null,8,{"$f":"ABRIL!C21","v":0},{"$f":"ABRIL!D21","v":0},{"$f":"ABRIL!E21","v":0},{"$f":"ABRIL!F21","v":0},{"$f":"ABRIL!G21","v":0},null,0,null,null,null,null,{"$f":"AX21","v":0},null,null,null,null,null,0,null,null,null,null,null,0]
[null,9,{"$f":"ABRIL!C22","v":0},{"$f":"ABRIL!D22","v":0},{"$f":"ABRIL!E22","v":0},{"$f":"ABRIL!F22","v":0},{"$f":"ABRIL!G22","v":0},null,0,null,null,null,null,0,null,null,null,null,null,0,null,null,null,null,null,0]
[null,10,{"$f":"ABRIL!C23","v":0},{"$f":"ABRIL!D23","v":0},{"$f":"ABRIL!E23","v":0},{"$f":"ABRIL!F23","v":0},{"$f":"ABRIL!G23","v":0},null,0,null,null,null,null,0,null,null,null,null,null,0,null,null,null,null,null,0]
[null,11,{"$f":"ABRIL!C24","v":0},{"$f":"ABRIL!D24","v":0},{"$f":"ABRIL!E24","v":0},{"$f":"ABRIL!F24","v":0},{"$f":"ABRIL!G24","v":0},null,0,null,null,null,null,0,null,null,null,null,null,0,null,null,null,null,null,0]
[null,12,{"$f":"ABRIL!C25","v":0},{"$f":"ABRIL!D25","v":0},{"$f":"ABRIL!E25","v":0},{"$f":"ABRIL!F25","v":0},{"$f":"ABRIL!G25","v":0},null,0,null,null,null,null,0,null,null,null,null,null,0,null,null,null,null,null,0]
[null,13,{"$f":"ABRIL!C26","v":0},{"$f":"ABRIL!D26","v":0},{"$f":"ABRIL!E26","v":0},{"$f":"ABRIL!F26","v":0},{"$f":"ABRIL!G26","v":0},null,0,null,null,null,null,0,null,null,null,null,null,0,null,null,null,null,null,0]
[null,14,{"$f":"ABRIL!C27","v":0},{"$f":"ABRIL!D27","v":0},{"$f":"ABRIL!E27","v":0},{"$f":"ABRIL!F27","v":0},{"$f":"ABRIL!G27","v":0},null,0,null,null,null,null,0,null,null,null,null,null,0,null,null,null,null,null,0]
[null,15,{"$f":"ABRIL!C28","v":0},{"$f":"ABRIL!D28","v":0},{"$f":"ABRIL!E28","v":0},{"$f":"ABRIL!F28","v":0},{"$f":"ABRIL!G28","v":0},null,0,null,null,null,null,0,null,null,null,null,null,0,null,null,null,null,null,0]
[null,16,{"$f":"ABRIL!C29","v":0},{"$f":"ABRIL!D29","v":0},{"$f":"ABRIL!E29","v":0},{"$f":"ABRIL!F29","v":0},{"$f":"ABRIL!G29","v":0},null,0,null,null,null,null,0,null,null,null,null,null,0,null,null,null,null,null,0]
[null,17,{"$f":"ABRIL!C30","v":0},{"$f":"ABRIL!D30","v":0},{"$f":"ABRIL!E30","v":0},{"$f":"ABRIL!F30","v":0},{"$f":"ABRIL!G30","v":0},null,0,null,null,null,null,0,null,null,null,null,null,0,null,null,null,null,null,0]
[null,18,{"$f":"ABRIL!C31","v":0},{"$f":"ABRIL!D31","v":0},{"$f":"ABRIL!E31","v":0},{"$f":"ABRIL!F31","v":0},{"$f":"ABRIL!G31","v":0},null,0,null,null,null,null,0,null,null,null,null,null,0,null,null,null,null,null,0]
[null,19,{"$f":"ABRIL!C32","v":0},{"$f":"ABRIL!D32","v":0},{"$f":"ABRIL!E32","v":0},{"$f":"ABRIL!F32","v":0},{"$f":"ABRIL!G32","v":0},null,0,null,null,null,null,0,null,null,null,null,null,0,null,null,null,null,null,0]
[null,20,{"$f":"ABRIL!C33","v":0},{"$f":"ABRIL!D33","v":0},{"$f":"ABRIL!E33","v":0},{"$f":"ABRIL!F33","v":0},{"$f":"ABRIL!G33","v":0},null,0,null,null,null,null,0,null,null,null,null,null,0,null,null,null,null,null,0]
[null,21,{"$f":"ABRIL!C34","v":0},{"$f":"ABRIL!D34","v":0},{"$f":"ABRIL!E34","v":0},{"$f":"ABRIL!F34","v":0},{"$f":"ABRIL!G34","v":0},null,0,null,null,null,null,0,null,null,null,null,null,0,null,null,null,null,null,0]
[null,22,{"$f":"ABRIL!C35","v":0},{"$f":"ABRIL!D35","v":0},{"$f":"ABRIL!E35","v":0},{"$f":"ABRIL!F35","v":0},{"$f":"ABRIL!G35","v":0},null,0,null,null,null,null,0,null,null,null,null,null,0,null,null,null,null,null,0]
[null,23,{"$f":"ABRIL!C36","v":0},{"$f":"ABRIL!D36","v":0},{"$f":"ABRIL!E36","v":0},{"$f":"ABRIL!F36","v":0},{"$f":"ABRIL!G36","v":0},null,0,null,null,null,null,0,null,null,null,null,null,0,null,null,null,null,null,0]
[null,24,{"$f":"ABRIL!C37","v":0},{"$f":"ABRIL!D37","v":0},{"$f":"ABRIL!E37","v":0},{"$f":"ABRIL!F37","v":0},{"$f":"ABRIL!G37","v":0},null,0,null,null,null,null,0,null,null,null,null,null,0,null,null,null,null,null,0]
[null,25,{"$f":"ABRIL!C38","v":0},{"$f":"ABRIL!D38","v":0},{"$f":"ABRIL!E38","v":0},{"$f":"ABRIL!F38","v":0},{"$f":"ABRIL!G38","v":0},null,0,null,null,null,null,0,null,null,null,null,null,0,null,null,null,null,null,0]
[null,26,{"$f":"ABRIL!C39","v":0},{"$f":"ABRIL!D39","v":0},{"$f":"ABRIL!E39","v":0},{"$f":"ABRIL!F39","v":0},{"$f":"ABRIL!G39","v":0},null,0,null,null,null,null,0,null,null,null,null,null,0,null,null,null,null,null,0]
[null,27,{"$f":"ABRIL!C40","v":0},{"$f":"ABRIL!D40","v":0},{"$f":"ABRIL!E40","v":0},{"$f":"ABRIL!F40","v":0},{"$f":"ABRIL!G40","v":0},null,0,null,null,null,null,0,null,null,null,null,null,0,null,null,null,null,null,0]
[null,28,{"$f":"ABRIL!C41","v":0},{"$f":"ABRIL!D41","v":0},{"$f":"ABRIL!E41","v":0},{"$f":"ABRIL!F41","v":0},{"$f":"ABRIL!G41","v":0},null,0,null,null,null,null,0,null,null,null,null,null,0,null,null,null,null,null,0]
[null,29,{"$f":"ABRIL!C42","v":0},{"$f":"ABRIL!D42","v":0},{"$f":"ABRIL!E42","v":0},{"$f":"ABRIL!F42","v":0},{"$f":"ABRIL!G42","v":0},null,0,null,null,null,null,0,null,null,null,null,null,0,null,null,null,null,null,0]
[null,30,{"$f":"ABRIL!C43","v":0},{"$f":"ABRIL!D43","v":0},{"$f":"ABRIL!E43","v":0},{"$f":"ABRIL!F43","v":0},{"$f":"ABRIL!G43","v":0},null,0,null,null,null,null,0,null,null,null,null,null,0,null,null,null,null,null,0]
[null,31,{"$f":"ABRIL!C44","v":0},{"$f":"ABRIL!D44","v":0},{"$f":"ABRIL!E44","v":0},{"$f":"ABRIL!F44","v":0},{"$f":"ABRIL!G44","v":0},null,0,null,null,null,null,0,null,null,null,null,null,0,null,null,null,null,null,0]
[null,32,{"$f":"ABRIL!C45","v":0},{"$f":"ABRIL!D45","v":0},{"$f":"ABRIL!E45","v":0},{"$f":"ABRIL!F45","v":0},{"$f":"ABRIL!G45","v":0},null,0,null,null,null,null,0,null,null,null,null,null,0,null,null,null,null,null,0]
[null,33,{"$f":"ABRIL!C46","v":0},{"$f":"ABRIL!D46","v":0},{"$f":"ABRIL!E46","v":0},{"$f":"ABRIL!F46","v":0},{"$f":"ABRIL!G46","v":0},null,0,null,null,null,null,0,null,null,null,null,null,0,null,null,null,null,null,0]
[null,34,{"$f":"ABRIL!C47","v":0},{"$f":"ABRIL!D47","v":0},{"$f":"ABRIL!E47","v":0},{"$f":"ABRIL!F47","v":0},{"$f":"ABRIL!G47","v":0},null,0,null,null,null,null,0,null,null,null,null,null,0,null,null,null,null,null,0]
[null,35,{"$f":"ABRIL!C48","v":0},{"$f":"ABRIL!D48","v":0},{"$f":"ABRIL!E48","v":0},{"$f":"ABRIL!F48","v":0},{"$f":"ABRIL!G48","v":0},null,0,null,null,null,null,0,null,null,null,null,null,0,null,null,null,null,null,0]
[null,36,{"$f":"ABRIL!C49","v":0},{"$f":"ABRIL!D49","v":0},{"$f":"ABRIL!E49","v":0},{"$f":"ABRIL!F49","v":0},{"$f":"ABRIL!G49","v":0},null,0,null,null,null,null,0,null,null,null,null,null,0,null,null,null,null,null,0]
[null,37,{"$f":"ABRIL!C50","v":0},{"$f":"ABRIL!D50","v":0},{"$f":"ABRIL!E50","v":0},{"$f":"ABRIL!F50","v":0},{"$f":"ABRIL!G50","v":0},null,0,null,null,null,null,0,null,null,null,null,null,0,null,null,null,null,null,0]
[null,38,{"$f":"ABRIL!C51","v":0},{"$f":"ABRIL!D51","v":0},{"$f":"ABRIL!E51","v":0},{"$f":"ABRIL!F51","v":0},{"$f":"ABRIL!G51","v":0},null,0,null,null,null,null,0,null,null,null,null,null,0,null,null,null,null,null,0]
[null,39,{"$f":"ABRIL!C52","v":0},{"$f":"ABRIL!D52","v":0},{"$f":"ABRIL!E52","v":0},{"$f":"ABRIL!F52","v":0},{"$f":"ABRIL!G52","v":0},null,0,null,null,null,null,0,null,null,null,null,null,0,null,null,null,null,null,0]
[null,40,{"$f":"ABRIL!C53","v":0},{"$f":"ABRIL!D53","v":0},{"$f":"ABRIL!E53","v":0},{"$f":"ABRIL!F53","v":0},{"$f":"ABRIL!G53","v":0},null,0,null,null,null,null,0,null,null,null,null,null,0,null,null,null,null,null,0]
[null,41,{"$f":"ABRIL!C54","v":0},{"$f":"ABRIL!D54","v":0},{"$f":"ABRIL!E54","v":0},{"$f":"ABRIL!F54","v":0},{"$f":"ABRIL!G54","v":0},null,0,null,null,null,null,0,null,null,null,null,null,0,null,null,null,null,null,0]
[null,42,{"$f":"ABRIL!C55","v":0},{"$f":"ABRIL!D55","v":0},{"$f":"ABRIL!E55","v":0},{"$f":"ABRIL!F55","v":0},{"$f":"ABRIL!G55","v":0},null,0,null,null,null,null,0,null,null,null,null,null,0,null,null,null,null,null,0]
[null,43,{"$f":"ABRIL!C56","v":0},{"$f":"ABRIL!D56","v":0},{"$f":"ABRIL!E56","v":0},{"$f":"ABRIL!F56","v":0},{"$f":"ABRIL!G56","v":0},null,0,null,null,null,null,0,null,null,null,null,null,0,null,null,null,null,null,0]
[null,44,{"$f":"ABRIL!C57","v":0},{"$f":"ABRIL!D57","v":0},{"$f":"ABRIL!E57","v":0},{"$f":"ABRIL!F57","v":0},{"$f":"ABRIL!G57","v":0},null,0,null,null,null,null,0,null,null,null,null,null,0,null,null,null,null,null,0]
[null,45,{"$f":"ABRIL!C58","v":0},{"$f":"ABRIL!D58","v":0},{"$f":"ABRIL!E58","v":0},{"$f":"ABRIL!F58","v":0},{"$f":"ABRIL!G58","v":0},null,0,null,null,null,null,0,null,null,null,null,null,0,null,null,null,null,null,0]
[null,46,{"$f":"ABRIL!C59","v":0},{"$f":"ABRIL!D59","v":0},{"$f":"ABRIL!E59","v":0},{"$f":"ABRIL!F59","v":0},{"$f":"ABRIL!G59","v":0},null,0,null,null,null,null,0,null,null,null,null,null,0,null,null,null,null,null,0]
[null,47,{"$f":"ABRIL!C60","v":0},{"$f":"ABRIL!D60","v":0},{"$f":"ABRIL!E60","v":0},{"$f":"ABRIL!F60","v":0},{"$f":"ABRIL!G60","v":0},null,0,null,null,null,null,0,null,null,null,null,null,0,null,null,null,null,null,0]
[null,48,{"$f":"ABRIL!C61","v":0},{"$f":"ABRIL!D61","v":0},{"$f":"ABRIL!E61","v":0},{"$f":"ABRIL!F61","v":0},{"$f":"ABRIL!G61","v":0},null,0,null,null,null,null,0,null,null,null,null,null,0,null,null,null,null,null,0]
[null,49,{"$f":"ABRIL!C62","v":0},{"$f":"ABRIL!D62","v":0},{"$f":"ABRIL!E62","v":0},{"$f":"ABRIL!F62","v":0},{"$f":"ABRIL!G62","v":0},null,0,null,null,null,null,0,null,null,null,null,null,0,null,null,null,null,null,0]
[null,50,{"$f":"ABRIL!C63","v":0},{"$f":"ABRIL!D63","v":0},{"$f":"ABRIL!E63","v":0},{"$f":"ABRIL!F63","v":0},{"$f":"ABRIL!G63","v":0},null,0,null,null,null,null,0,null,null,null,null,null,0,null,null,null,null,null,0]
[]
[]
[null,null,null,null,null,null,null,null,null,null,null,null,null,null,null,null,null,null,null,null,null,null,null,null,null,null,"LUGAR Y FECHA"]
[]
[null,null,null,null,null,null,null,null,null,null,null,null,null,"DIRECTOR:"]